BEGIN:VCALENDAR
VERSION:2.0
PRODID:-//Klangforum Wien - ECPv5.10.0//NONSGML v1.0//EN
CALSCALE:GREGORIAN
METHOD:PUBLISH
X-WR-CALNAME:Klangforum Wien
X-ORIGINAL-URL:https://alt2.klangforum.at
X-WR-CALDESC:Veranstaltungen für Klangforum Wien
BEGIN:VTIMEZONE
TZID:Europe/Berlin
BEGIN:DAYLIGHT
TZOFFSETFROM:+0100
TZOFFSETTO:+0200
TZNAME:CEST
DTSTART:20210328T010000
END:DAYLIGHT
BEGIN:STANDARD
TZOFFSETFROM:+0200
TZOFFSETTO:+0100
TZNAME:CET
DTSTART:20211031T010000
END:STANDARD
END:VTIMEZONE
BEGIN:VEVENT
DTSTART;TZID=Europe/Berlin:20210423T223000
DTEND;TZID=Europe/Berlin:20210423T233000
DTSTAMP:20260425T011348
CREATED:20210209T151921Z
LAST-MODIFIED:20210421T125314Z
UID:4763-1619217000-1619220600@alt2.klangforum.at
SUMMARY:Wittener Tage für neue Kammermusik
DESCRIPTION:  \n22.30 Uhr \n  \n\n\n\nWittener Tage für neue Kammermusik \n„Vertigo / Infinite Screen ist eine Reflexion über die schwindelerregende Verwandlung der Bedeutung und Wahrnehmung von Zeichen im Kontext der allgegenwärtigen und endlosen Bildschirm-Welten unserer Zeit“ — AROTIN & SERGHEI \n\n\n  \n\n\nProgramm: \n\n\nBrice Pauset— Vertigo / Infinite Screen (2020-21)\, eine inter-mediale Komposition nach Alfred Hitchcocks Vertigo für Ensemble in 6 Gruppen\, 18 Bild-Module und Elektronik. \nAROTIN & SERGEI\, VideoBenjamin Lévy\, IRCAM Computer Music Design Sylvain Cadars\, IRCAM Sound EngineeringDirigent: Titus Engel \nCoronabedingt findet dieses Konzert ohne Publikum statt\, wird aber im Videostream übertragen.Zu hören im WDR3 \nÜbertragung im Videostream vom WDRDas Konzert steht am Tag nach der Sendung für 30 Tage um Nachhören bereit. \n\n\n  \n	\n		\n		FacebookTwitterLinkedInWhatsAppVkE-Mail
URL:https://alt2.klangforum.at/kalender/wittener-tage-fuer-neue-kammermusik/
LOCATION:Saalbau Witten\, Theatersaal\, Bergerstraße 25\, Witten\, 58452\, Deutschland
CATEGORIES:Festival
ATTACH;FMTTYPE=image/x-png:https://alt2.klangforum.at/wp-content/uploads/2021/02/AROTIN-SERGHEI_Vertigo_Klangforum-Wien.png
END:VEVENT
END:VCALENDAR