BEGIN:VCALENDAR
VERSION:2.0
PRODID:-//Klangforum Wien - ECPv5.10.0//NONSGML v1.0//EN
CALSCALE:GREGORIAN
METHOD:PUBLISH
X-WR-CALNAME:Klangforum Wien
X-ORIGINAL-URL:https://alt2.klangforum.at
X-WR-CALDESC:Veranstaltungen für Klangforum Wien
BEGIN:VTIMEZONE
TZID:Europe/Berlin
BEGIN:DAYLIGHT
TZOFFSETFROM:+0100
TZOFFSETTO:+0200
TZNAME:CEST
DTSTART:20210328T010000
END:DAYLIGHT
BEGIN:STANDARD
TZOFFSETFROM:+0200
TZOFFSETTO:+0100
TZNAME:CET
DTSTART:20211031T010000
END:STANDARD
END:VTIMEZONE
BEGIN:VEVENT
DTSTART;TZID=Europe/Berlin:20210919T193000
DTEND;TZID=Europe/Berlin:20210919T193000
DTSTAMP:20260424T185901
CREATED:20210715T100015Z
LAST-MODIFIED:20211010T133315Z
UID:6572-1632079800-1632079800@alt2.klangforum.at
SUMMARY:Warschauer Herbst
DESCRIPTION:Warschauer Herbst \n  \n  \n \nBas Wiegers \nCezary Duchnowski | Lars Petter Hagen | Olga Neuwirth | Mikolaj Laskowski | Aleksander Nowak \nTicketverkaufVerantstalter Website\n	\n		\n		FacebookTwitterLinkedInWhatsAppVkE-Mail
URL:https://alt2.klangforum.at/kalender/warschauer-herbst/
LOCATION:Nat. Philharmonic Hall\, Jasna 5\, Warszawa\, 00-950\, Polen
CATEGORIES:Konzert
ATTACH;FMTTYPE=image/x-citrix-jpeg:https://alt2.klangforum.at/wp-content/uploads/2021/07/Warschauer-Herbst_1060x710.jpg
END:VEVENT
END:VCALENDAR