BEGIN:VCALENDAR
VERSION:2.0
PRODID:-//Klangforum Wien - ECPv5.10.0//NONSGML v1.0//EN
CALSCALE:GREGORIAN
METHOD:PUBLISH
X-WR-CALNAME:Klangforum Wien
X-ORIGINAL-URL:https://alt2.klangforum.at
X-WR-CALDESC:Veranstaltungen für Klangforum Wien
BEGIN:VTIMEZONE
TZID:Europe/Berlin
BEGIN:DAYLIGHT
TZOFFSETFROM:+0100
TZOFFSETTO:+0200
TZNAME:CEST
DTSTART:20220327T010000
END:DAYLIGHT
BEGIN:STANDARD
TZOFFSETFROM:+0200
TZOFFSETTO:+0100
TZNAME:CET
DTSTART:20221030T010000
END:STANDARD
END:VTIMEZONE
BEGIN:VEVENT
DTSTART;TZID=Europe/Berlin:20220828T150000
DTEND;TZID=Europe/Berlin:20220828T170000
DTSTAMP:20260425T050110
CREATED:20220608T085424Z
LAST-MODIFIED:20220826T103021Z
UID:11722-1661698800-1661706000@alt2.klangforum.at
SUMMARY:Tongyeong International Music Festival – Das neue Wien
DESCRIPTION:Tongyeong International Music Festival – Das neue Wien \n   August 28\,\n15.00 - \n17.00 \n Tongyeong Concert Hall\, Tongyeong\, Südkorea \nZu den TicketsZum VeranstalterJohann Strauss/Arnold Schönberg\n– Kaiserwalzer op. 437 \nAnton Webern\n– Sechs Stücke für Orchester op.6 \nAlban Berg\n– Fünf Orchesterlieder nach Ansichtskartentexten von Peter Altenberg (1912) (Bearb. Diderik Wagenaar) \nArnold Schönberg\n– Fünf Orchesterstücke op. 16 \nG. Mahler/ Trevor Grahl\n– Das Schildwache Nachtlied \nG.Mahler/ Tierry Tidrow\n– Lied des Verfolgten im Turm \nG.Mahler/ Thierry Tidrow\n– Das Irdische Leben \nCaroline Melzer\, Stimme \nEmilio Pomàrico \nJohann Strauss | Arnold Schönberg | Anton Webern | Alban Berg | G. Mahler | Trevor Grahl | Tierry Tidrow
URL:https://alt2.klangforum.at/kalender/tongyeong-international-music-festival-das-neue-wien/
LOCATION:Tongyeong Concert Hall\, Tongyeong\, Südkorea
CATEGORIES:Konzert
ATTACH;FMTTYPE=image/x-citrix-jpeg:https://alt2.klangforum.at/wp-content/uploads/2022/06/gall_hall4.jpg
END:VEVENT
END:VCALENDAR