BEGIN:VCALENDAR
VERSION:2.0
PRODID:-//Klangforum Wien - ECPv5.10.0//NONSGML v1.0//EN
CALSCALE:GREGORIAN
METHOD:PUBLISH
X-WR-CALNAME:Klangforum Wien
X-ORIGINAL-URL:https://alt2.klangforum.at
X-WR-CALDESC:Veranstaltungen für Klangforum Wien
BEGIN:VTIMEZONE
TZID:Europe/Berlin
BEGIN:DAYLIGHT
TZOFFSETFROM:+0100
TZOFFSETTO:+0200
TZNAME:CEST
DTSTART:20210328T010000
END:DAYLIGHT
BEGIN:STANDARD
TZOFFSETFROM:+0200
TZOFFSETTO:+0100
TZNAME:CET
DTSTART:20211031T010000
END:STANDARD
END:VTIMEZONE
BEGIN:VEVENT
DTSTART;TZID=Europe/Berlin:20210725T113000
DTEND;TZID=Europe/Berlin:20210725T170000
DTSTAMP:20260422T104344
CREATED:20210702T102114Z
LAST-MODIFIED:20210726T095328Z
UID:6355-1627212600-1627232400@alt2.klangforum.at
SUMMARY:Theaterhaus Stuttgart
DESCRIPTION:11.30 Uhr \n\n\n\n\nDer Lauf des Lebens \n\n\n\nGeorges Aperghis   — Der Lauf des LebensNeue Vocalsolisten StuttgartKlangforum WienNeue Vocalsolisten StuttgartJohanna Vargas\, SopranSusanne Leitz-Lorey\, SopranTruike van der Poel\, MezzosopranMartin Nagy\, TenorGuillermo Anzorena\, BaritonAndreas Fischer\, BassDirigent: Emilio Pomàrico \n\n\n\nIn allen nur erdenklichen Klangfarben und konstruktiven Volten imaginiert Georges Aperghis\, Träger des Ernst von Siemens Musikpreises 2021\, in „Le cours de la vie“ das Bild der großen Straße\, auf der man „zu zweit\, zu dritt\, plötzlich in einer gehenden Menge“ auf vertraute wie auf „seltsam scheinende Figuren trifft\, einige von ihnen maskiert … “ – Auch in dieser Komposition zeigt Aperghis\, dass er „wie ein Akrobat auf dem Seil zu tanzen und dabei den Sturz zu riskieren versteht\, ohne zu stürzen“ – so der Philosoph Félix Guattari. \n\n\n\nKompositionsauftrag von Musik der Jahrhunderte\,gefördert von der Ernst von Siemens Musikstiftung \n\n\n\n\n\n\n\nSOMMER IN STUTTGART festival neuer musik wird veranstaltet von Musik der Jahrhunderte in Verbindung mit der Akademie Schloss Solitude und ensemble ascolta. \n\n\n\nText: Neue Vocalsolisten \n\n\n\n\n\n\n\n\n \n	\n		\n		FacebookTwitterLinkedInWhatsAppVkE-Mail
URL:https://alt2.klangforum.at/kalender/theaterhaus-stuttgart/
CATEGORIES:Festival
ATTACH;FMTTYPE=image/x-png:https://alt2.klangforum.at/wp-content/uploads/2021/07/KAI_BIENERT_Georges-Aperghis_Klangforum-Wien.png
END:VEVENT
END:VCALENDAR