BEGIN:VCALENDAR
VERSION:2.0
PRODID:-//Klangforum Wien - ECPv5.10.0//NONSGML v1.0//EN
CALSCALE:GREGORIAN
METHOD:PUBLISH
X-WR-CALNAME:Klangforum Wien
X-ORIGINAL-URL:https://alt2.klangforum.at
X-WR-CALDESC:Veranstaltungen für Klangforum Wien
BEGIN:VTIMEZONE
TZID:Europe/Berlin
BEGIN:DAYLIGHT
TZOFFSETFROM:+0100
TZOFFSETTO:+0200
TZNAME:CEST
DTSTART:20210328T010000
END:DAYLIGHT
BEGIN:STANDARD
TZOFFSETFROM:+0200
TZOFFSETTO:+0100
TZNAME:CET
DTSTART:20211031T010000
END:STANDARD
END:VTIMEZONE
BEGIN:VEVENT
DTSTART;TZID=Europe/Berlin:20210129T170000
DTEND;TZID=Europe/Berlin:20210129T210000
DTSTAMP:20260425T044714
CREATED:20210127T151817Z
LAST-MODIFIED:20210129T185047Z
UID:4649-1611939600-1611954000@alt2.klangforum.at
SUMMARY:VERSCHOBEN symposium & showcase einklang freier wesen
DESCRIPTION:Beginn: 17.00 Uhr \n\n\n\n\n\n\n\n\nKünstlerInnen\, Ensembles und VeranstalterInnen diskutieren über Grenzen und Chancen digitaler Musikerfahrung und stellen ein globales Kooperationsprojekt vor. \n\n\n\n»Die neue Zeit hat begonnen. […] Die Kultur wird zu einem Online-Paradies«\, schrieb Peter Weibel in seinem Essay »Virus\, Viralität\, Virtualität«. Ausgehend von seiner Theorie der Ferngesellschaft diskutieren VertreterInnen internationaler Ensembles\, des ZKM | Karlsruhe sowie VeranstalterInnen die Grenzen und Chancen digitaler Musikerfahrung und stellen das Kooperationsprojekt »einklang freier wesen« vor – ein interaktives Audiointerface\, das ein Ensemblewerk von Georg Friedrich Haas online erfahrbar macht. \n\n\n\nDie Veranstaltung findet in englischer Sprache statt. \n\n\n\n\n\n\n\n\n\n\n\n\nmit: Ole Baekhoj (Pierre Boulez Saal)\, Marco Blaauw (Ensemble Musikfabrik)\, Prof. Ludger Brümmer (ZKM)\, Christian Fausch (Ensemble Modern)\, Matthew Gold (Talea Ensemble New York)\, David-Maria Gramse (Ensemble Resonanz)\, Prof. Georg Friedrich Haas (Komponist)\, Malte Müller (WAF GmbH)\, Tobias Rempe (Ensemble Resonanz)\, Steven Walter (Beethovenfest Bonn)\, Prof. Peter Weibel (ZKM)\, Bas Wiegers (Dirigent)\, Bernhard Zachhuber (Klangforum Wien) \n\n\n\nIn Kooperation mit: Ensemble Resonanz\, Ensemble Modern\, Ensemble Musikfabrik\, Klangforum Wien\, Talea Ensemble New York \n\n\n\n(Alle Uhrzeiten in CET.)  \n\n\n\n17:00 – 17:10 UhrWelcome Moderated by Ludger Brümmer (ZKM | Hertz-Lab) and Tobias Rempe (Ensemble Resonanz)17:10 – 17:30 UhrKeynote 1 »From a Society of Proximity to a Tele-Society« Peter Weibel (ZKM | Karlsruhe)17:30 – 18:40 UhrPanel Discussion 1 »Production and Presentation of Art in Digital Space: How to Create an Autonomous and Sensual Experience« Moderation: Tobias Rempe (Ensemble Resonanz) Ludger Brümmer (ZKM | Hertz-Lab)\, David-Maria Gramse (Ensemble Resonanz)\, Christian Fausch (Ensemble Modern)\, Matthew Gold (Talea Ensemble New York)\, Bernhard Zachhuber (Klangforum Wien)\, Marco Blaauw (Ensemble Musikfabrik)18:40 – 19:00 UhrBreak \n\n\n\n19:00 – 19:40 UhrPanel Discussion 2 »Experience\, Communication\, and Community – Digital Transformation for Concert Promoters and Ensembles. A New Cooperation of Pierre Boulez Saal\, Beethovenfest Bonn and Ensemble Resonanz« Moderation: Ludger Brümmer (ZKM | Hertz-Lab) Ole Baekhoej (Pierre Boulez Saal)\, Steven Walter (Beethovenfest Bonn)\, Tobias Rempe (Ensemble Resonanz)19:40 – 19:45 UhrIntroduction  »einklang freier wesen« Ludger Brümmer (ZKM | Hertz-Lab)\, Tobias Rempe (Ensemble Resonanz)19:45 – 20:05 UhrKeynote 2  »The Composition »einklang freier wesen« – 10 Solo Pieces Make up an Ensemble Work« Georg Friedrich Haas (Composer of »Einklang freier Wesen«)20:05 – 20:35 UhrPanel Discussion 3 »Worldwide Lockdown Cooperation of 5 Ensembles and the ZKM | Hertz-Lab: Sound Installation & Digital Interface ‚einklang freier wesen‘. History and Challenges of the Project« Moderation: Ludger Brümmer (ZKM | Hertz-Lab) & Tobias Rempe (Ensemble Resonanz) Malte Müller (WAF GMBH)\, Bas Wiegers (Conductor of »einklang freier wesen«)20:35 – 20:55 UhrPresentation Digital Interface »einklang freier wesen« Malte Müller (WAF GMBH)\, David-Maria Gramse (Ensemble Resonanz)20:55 – 21:10 UhrZKM_Sound Dome: Speaker Performance of »einklang freier wesen« ZKM | Hertz-Lab\, Ensemble Resonanz\, Ensemble Modern\, Ensemble Musikfabrik\, Talea Ensemble New York\, Klangforum Wien\, Bas Wiegers \n\n\n\n \n\n\n\n\n\n\n\n\n\n\n\n\n\n\n	\n		\n		FacebookTwitterLinkedInWhatsAppVkE-Mail
URL:https://alt2.klangforum.at/kalender/symposium-showcase-einklang-freier-wesen/
CATEGORIES:Streaming
ATTACH;FMTTYPE=image/x-citrix-jpeg:https://alt2.klangforum.at/wp-content/uploads/2021/01/einklang_freier_wesen_screenshot_c_WAF-GmbH.jpg
END:VEVENT
END:VCALENDAR