BEGIN:VCALENDAR
VERSION:2.0
PRODID:-//Klangforum Wien - ECPv5.10.0//NONSGML v1.0//EN
CALSCALE:GREGORIAN
METHOD:PUBLISH
X-WR-CALNAME:Klangforum Wien
X-ORIGINAL-URL:https://alt2.klangforum.at
X-WR-CALDESC:Veranstaltungen für Klangforum Wien
BEGIN:VTIMEZONE
TZID:Europe/Berlin
BEGIN:DAYLIGHT
TZOFFSETFROM:+0100
TZOFFSETTO:+0200
TZNAME:CEST
DTSTART:20210328T010000
END:DAYLIGHT
BEGIN:STANDARD
TZOFFSETFROM:+0200
TZOFFSETTO:+0100
TZNAME:CET
DTSTART:20211031T010000
END:STANDARD
END:VTIMEZONE
BEGIN:VEVENT
DTSTART;TZID=Europe/Berlin:20210804T203000
DTEND;TZID=Europe/Berlin:20210804T233000
DTSTAMP:20260424T190714
CREATED:20210416T120917Z
LAST-MODIFIED:20210722T073009Z
UID:5513-1628109000-1628119800@alt2.klangforum.at
SUMMARY:Salzburger Festspiele
DESCRIPTION:4. August 2021\, 20.30 Uhr \n\n\n\nSTILL LIFE — ZEIT MIT FELDMANMorton Feldman— Between categories für zwei Röhrenglocken\, zwei Klaviere\, zwei Violinen und zwei VioloncelliFor Samuel Beckett für 23 Spieler \nKlangforum WienDirigent: Emilio Pomàrico \n\n\n	\n		\n		FacebookTwitterLinkedInWhatsAppVkE-Mail
URL:https://alt2.klangforum.at/kalender/salzburger-festspiele/
LOCATION:Kollegienkirche\, Universitätsplatz 1\, Salzburg\, 5020\, Österreich
CATEGORIES:Festival
ATTACH;FMTTYPE=image/x-png:https://alt2.klangforum.at/wp-content/uploads/2021/04/Beitragsbild-Klangforum-web1.png
END:VEVENT
END:VCALENDAR