BEGIN:VCALENDAR
VERSION:2.0
PRODID:-//Klangforum Wien - ECPv5.10.0//NONSGML v1.0//EN
CALSCALE:GREGORIAN
METHOD:PUBLISH
X-WR-CALNAME:Klangforum Wien
X-ORIGINAL-URL:https://alt2.klangforum.at
X-WR-CALDESC:Veranstaltungen für Klangforum Wien
BEGIN:VTIMEZONE
TZID:Europe/Berlin
BEGIN:DAYLIGHT
TZOFFSETFROM:+0100
TZOFFSETTO:+0200
TZNAME:CEST
DTSTART:20220327T010000
END:DAYLIGHT
BEGIN:STANDARD
TZOFFSETFROM:+0200
TZOFFSETTO:+0100
TZNAME:CET
DTSTART:20221030T010000
END:STANDARD
END:VTIMEZONE
BEGIN:VEVENT
DTSTART;TZID=Europe/Berlin:20220723T210000
DTEND;TZID=Europe/Berlin:20220723T210000
DTSTAMP:20260424T160524
CREATED:20220111T113438Z
LAST-MODIFIED:20220627T092020Z
UID:9429-1658610000-1658610000@alt2.klangforum.at
SUMMARY:Salzburger Festspiele – Vigilia
DESCRIPTION:Salzburger Festspiele – Vigilia \n   Juli 23\,\n21.00 - \n21.00 \n Kollegienkirche\, Salzburg\, Österreich \nZweiter Konzertteil: Hagen Quartett mit Haydn „Sieben letzte Worte unseres Erlösers am Kreuze“.\nDas Konzert wird am 16. August im Ö1 Zeit-Ton übertragen.\nFoto: Marco Borggreve \nZu den TicketsZum VeranstalterWolfgang Rihm\n— Vigilia für 6 Stimmen und 10 Instrumentalisten \nSylvain Cambreling \nWolfgang Rihm
URL:https://alt2.klangforum.at/kalender/salzburger-festspiele-vigilia/
LOCATION:Kollegienkirche\, Universitätsplatz 1\, Salzburg\, 5020\, Österreich
CATEGORIES:Festival,Konzert
ATTACH;FMTTYPE=image/x-citrix-jpeg:https://alt2.klangforum.at/wp-content/uploads/2022/01/hires-cambreling_credit_marco_borggreve_1060x710px.jpg
END:VEVENT
END:VCALENDAR