BEGIN:VCALENDAR
VERSION:2.0
PRODID:-//Klangforum Wien - ECPv5.10.0//NONSGML v1.0//EN
CALSCALE:GREGORIAN
METHOD:PUBLISH
X-WR-CALNAME:Klangforum Wien
X-ORIGINAL-URL:https://alt2.klangforum.at
X-WR-CALDESC:Veranstaltungen für Klangforum Wien
BEGIN:VTIMEZONE
TZID:Europe/Berlin
BEGIN:DAYLIGHT
TZOFFSETFROM:+0100
TZOFFSETTO:+0200
TZNAME:CEST
DTSTART:20230326T010000
END:DAYLIGHT
BEGIN:STANDARD
TZOFFSETFROM:+0200
TZOFFSETTO:+0100
TZNAME:CET
DTSTART:20231029T010000
END:STANDARD
END:VTIMEZONE
BEGIN:VEVENT
DTSTART;TZID=Europe/Berlin:20230724T220000
DTEND;TZID=Europe/Berlin:20230724T233000
DTSTAMP:20260422T120946
CREATED:20221215T130501Z
LAST-MODIFIED:20221215T131007Z
UID:12927-1690236000-1690241400@alt2.klangforum.at
SUMMARY:Salzburger Festspiele – Ouverture spirituelle – Lux aeterna – One¹¹
DESCRIPTION:Salzburger Festspiele – Ouverture spirituelle – Lux aeterna – One¹¹ \n   Juli 24\,\n22.00 - \n23.30 \n Kollegienkirche\, Salzburg\, Österreich \nMit diesem Werk überführte der amerikanische Künstler und Komponist John Cage (1912—1992) Lichtabstraktionen in Klangwelten und -räume. One11 wird als Komposition „für Solo-Kameramann“ bezeichnet. Cage schreibt: „One11 ist ein Film ohne Thema. Es gibt Licht\, aber keine Personen\, keine Dinge\, keine Idee von Wiederholung und Variation. Es ist eine bedeutungslose Aktivität\, die dennoch kommunikativ ist\, wie das Licht selbst“. John Cage beendete den Film kurz vor seinem Tod. \nZu den TicketsZum VeranstalterJohn Cage \nOne¹¹ — for solo camera man \n(1992\, 16 mm\, black and white\, sound\, 94’) \n  \nHenning Lohner | Produktion und Regie \nVan Carlson | Kamera \nTBC \nJohn Cage
URL:https://alt2.klangforum.at/kalender/salzburger-festspiele-ouverture-spirituelle-lux-aeterna/
LOCATION:Kollegienkirche\, Universitätsplatz 1\, Salzburg\, 5020\, Österreich
CATEGORIES:Konzert
ATTACH;FMTTYPE=image/x-citrix-jpeg:https://alt2.klangforum.at/wp-content/uploads/2022/12/92673062_3397738986920368_1814247400475197440_n.jpg
END:VEVENT
END:VCALENDAR