BEGIN:VCALENDAR
VERSION:2.0
PRODID:-//Klangforum Wien - ECPv5.10.0//NONSGML v1.0//EN
CALSCALE:GREGORIAN
METHOD:PUBLISH
X-WR-CALNAME:Klangforum Wien
X-ORIGINAL-URL:https://alt2.klangforum.at
X-WR-CALDESC:Veranstaltungen für Klangforum Wien
BEGIN:VTIMEZONE
TZID:Europe/Berlin
BEGIN:DAYLIGHT
TZOFFSETFROM:+0100
TZOFFSETTO:+0200
TZNAME:CEST
DTSTART:20220327T010000
END:DAYLIGHT
BEGIN:STANDARD
TZOFFSETFROM:+0200
TZOFFSETTO:+0100
TZNAME:CET
DTSTART:20221030T010000
END:STANDARD
END:VTIMEZONE
BEGIN:VEVENT
DTSTART;TZID=Europe/Berlin:20220719T220000
DTEND;TZID=Europe/Berlin:20220719T220000
DTSTAMP:20260422T121000
CREATED:20220111T105613Z
LAST-MODIFIED:20220627T085524Z
UID:9398-1658268000-1658268000@alt2.klangforum.at
SUMMARY:Salzburger Festspiele – Ouverture spirituelle
DESCRIPTION:Salzburger Festspiele – Ouverture spirituelle \n   Juli 19\,\n22.00 - \n22.00 \n Kollegienkirche\, Salzburg\, Österreich \nDas Konzert wird am 8. August im Ö1 Zeit-Ton übertragen. \nZu den TicketsZum VeranstalterLuigi Nono\n— Ricorda cosa ti hanno fatto in Auschwitz – Chöre aus Die Ermittlung von Peter Weiss für Vierspur-Tonband\n\n— Quando stanno morendo – Diario polacco Nr. 2 für vier Frauenstimmen\, Bassflöte\, Violoncello und Live-Elektronik\n\nSylvain Cambreling \nLuigi Nono
URL:https://alt2.klangforum.at/kalender/salzburger-festspiele-ouverture-spirituelle-4/
LOCATION:Kollegienkirche\, Universitätsplatz 1\, Salzburg\, 5020\, Österreich
CATEGORIES:Festival,Konzert
ATTACH;FMTTYPE=image/x-citrix-jpeg:https://alt2.klangforum.at/wp-content/uploads/2022/01/luigi-nono_1060x710px.jpg
END:VEVENT
END:VCALENDAR