BEGIN:VCALENDAR
VERSION:2.0
PRODID:-//Klangforum Wien - ECPv5.10.0//NONSGML v1.0//EN
CALSCALE:GREGORIAN
METHOD:PUBLISH
X-WR-CALNAME:Klangforum Wien
X-ORIGINAL-URL:https://alt2.klangforum.at
X-WR-CALDESC:Veranstaltungen für Klangforum Wien
BEGIN:VTIMEZONE
TZID:Europe/Berlin
BEGIN:DAYLIGHT
TZOFFSETFROM:+0100
TZOFFSETTO:+0200
TZNAME:CEST
DTSTART:20220327T010000
END:DAYLIGHT
BEGIN:STANDARD
TZOFFSETFROM:+0200
TZOFFSETTO:+0100
TZNAME:CET
DTSTART:20221030T010000
END:STANDARD
END:VTIMEZONE
BEGIN:VEVENT
DTSTART;TZID=Europe/Berlin:20220731T193000
DTEND;TZID=Europe/Berlin:20220731T193000
DTSTAMP:20260424T221122
CREATED:20220111T123906Z
LAST-MODIFIED:20220118T102417Z
UID:9433-1659295800-1659295800@alt2.klangforum.at
SUMMARY:Salzburger Festspiele – Chiffre
DESCRIPTION:Salzburger Festspiele – Chiffre \n   Juli 31\,\n19.30 - \n19.30 \n Mozarteum\, Salzburg\, Österreich \nDie Stücke sind Versuche\, eine Musiksprache zu finden\, die frei ist von Verlaufs- und Verarbeitungsvorgaben. Es geht um freie Setzung des Einzelereignisses\, unherbeigeführt\, folgenlos im engen Sinn – freie Fortzeugung eines Imaginationsraumes; Suche nach Klangobjekten\, nach Klangzeichen\, einer Klangschrift. Ein Stadium in meiner immer wieder unterbrochenen\, immer wieder aufgenommenen Suche nach Musik als Zustand. Musik als Zustand von Musik. \nFoto: Astrid Ackermann \nZu den TicketsZum VeranstalterWolfgang Rihm\n— Chiffre-Zyklus \nSylvain Cambreling \nWolfgang Rihm
URL:https://alt2.klangforum.at/kalender/salzburger-festspiele-chiffre/
LOCATION:Mozarteum\, Schwarzstraße 28\, Salzburg\, 5020\, Österreich
CATEGORIES:Festival,Konzert
ATTACH;FMTTYPE=image/x-citrix-jpeg:https://alt2.klangforum.at/wp-content/uploads/2022/01/Wolfgang-Rihm-c-Astrid-Ackermann_1060x710px.jpg
END:VEVENT
END:VCALENDAR