BEGIN:VCALENDAR
VERSION:2.0
PRODID:-//Klangforum Wien - ECPv5.10.0//NONSGML v1.0//EN
CALSCALE:GREGORIAN
METHOD:PUBLISH
X-WR-CALNAME:Klangforum Wien
X-ORIGINAL-URL:https://alt2.klangforum.at
X-WR-CALDESC:Veranstaltungen für Klangforum Wien
BEGIN:VTIMEZONE
TZID:Europe/Berlin
BEGIN:DAYLIGHT
TZOFFSETFROM:+0100
TZOFFSETTO:+0200
TZNAME:CEST
DTSTART:20230326T010000
END:DAYLIGHT
BEGIN:STANDARD
TZOFFSETFROM:+0200
TZOFFSETTO:+0100
TZNAME:CET
DTSTART:20231029T010000
END:STANDARD
END:VTIMEZONE
BEGIN:VEVENT
DTSTART;TZID=Europe/Berlin:20230722T203000
DTEND;TZID=Europe/Berlin:20230722T220000
DTSTAMP:20260424T160503
CREATED:20221215T121626Z
LAST-MODIFIED:20221215T122632Z
UID:12912-1690057800-1690063200@alt2.klangforum.at
SUMMARY:Salzburger Festspiele – Ouverture spirituelle – Lux aeterna – In nomine lucis
DESCRIPTION:Salzburger Festspiele – Ouverture spirituelle – Lux aeterna – In nomine lucis \n   Juli 22\,\n20.30 - \n22.00 \n Kollegienkirche\, Salzburg\, Österreich \nZu den TicketsZum VeranstalterGiacinto Scelsi \nIn nomine lucis für Orgel \nSofia Gubaidulina \nMeditation über den Choral „Vor deinen Thron tret’ ich hiermit“ für Kammerensemble \nGérard Grisey \nQuatre chants pour franchir le seuil für Sopran und Ensemble \n  \nAlexander Bauer | Orgel \nFlorian Müller | Cembalo \nKatrien Baerts | Sopran \nIlan Volkov \nGiacinto Scelsi | Sofia Gubaidulina | Gérard Grisey
URL:https://alt2.klangforum.at/kalender/salzburger-festspiele-3/
LOCATION:Kollegienkirche\, Universitätsplatz 1\, Salzburg\, 5020\, Österreich
CATEGORIES:Konzert
ATTACH;FMTTYPE=image/x-citrix-jpeg:https://alt2.klangforum.at/wp-content/uploads/2022/12/92673062_3397738986920368_1814247400475197440_n.jpg
END:VEVENT
END:VCALENDAR