BEGIN:VCALENDAR
VERSION:2.0
PRODID:-//Klangforum Wien - ECPv5.10.0//NONSGML v1.0//EN
CALSCALE:GREGORIAN
METHOD:PUBLISH
X-WR-CALNAME:Klangforum Wien
X-ORIGINAL-URL:https://alt2.klangforum.at
X-WR-CALDESC:Veranstaltungen für Klangforum Wien
BEGIN:VTIMEZONE
TZID:Europe/Berlin
BEGIN:DAYLIGHT
TZOFFSETFROM:+0100
TZOFFSETTO:+0200
TZNAME:CEST
DTSTART:20210328T010000
END:DAYLIGHT
BEGIN:STANDARD
TZOFFSETFROM:+0200
TZOFFSETTO:+0100
TZNAME:CET
DTSTART:20211031T010000
END:STANDARD
END:VTIMEZONE
BEGIN:VEVENT
DTSTART;TZID=Europe/Berlin:20210808T120000
DTEND;TZID=Europe/Berlin:20210808T120000
DTSTAMP:20260424T221032
CREATED:20210514T132348Z
LAST-MODIFIED:20210807T163758Z
UID:5517-1628424000-1628424000@alt2.klangforum.at
SUMMARY:Salzburger Festspiele
DESCRIPTION:08. August 2021\, 20.30 Uhr \n  \n\n\n\nSTILL LIFE — ZEIT MIT FELDMAN \nMorton Feldman— Chorus and Instruments für gemischten Chor\, Röhrenglocken und Tuba — De Kooning für Horn\, Schlagzeug\, Klavier\, Violine und Violoncello — Chorus and Instruments für gemischten Chor und Instrumentalensemble — Rothko Chapel für Sopran\, Alt\, gemischten Chor\, Schlagzeug\, Celesta und Viola \nCantando AdmontChoreinstudierung\, Cordula BürgiKlangforum WienDirigent: Emilio Pomàrico \n\n\n  \n  \n  \n  \n	\n		\n		FacebookTwitterLinkedInWhatsAppVkE-Mail
URL:https://alt2.klangforum.at/kalender/salzburger-festspiele-2/
LOCATION:Kollegienkirche\, Universitätsplatz 1\, Salzburg\, 5020\, Österreich
CATEGORIES:Festival
ATTACH;FMTTYPE=image/jpeg:https://alt2.klangforum.at/wp-content/uploads/2020/06/kollegienkirche.jpg
END:VEVENT
END:VCALENDAR