BEGIN:VCALENDAR
VERSION:2.0
PRODID:-//Klangforum Wien - ECPv5.10.0//NONSGML v1.0//EN
CALSCALE:GREGORIAN
METHOD:PUBLISH
X-WR-CALNAME:Klangforum Wien
X-ORIGINAL-URL:https://alt2.klangforum.at
X-WR-CALDESC:Veranstaltungen für Klangforum Wien
BEGIN:VTIMEZONE
TZID:Europe/Berlin
BEGIN:DAYLIGHT
TZOFFSETFROM:+0100
TZOFFSETTO:+0200
TZNAME:CEST
DTSTART:20210328T010000
END:DAYLIGHT
BEGIN:STANDARD
TZOFFSETFROM:+0200
TZOFFSETTO:+0100
TZNAME:CET
DTSTART:20211031T010000
END:STANDARD
END:VTIMEZONE
BEGIN:VEVENT
DTSTART;TZID=Europe/Berlin:20210925T210000
DTEND;TZID=Europe/Berlin:20210925T210000
DTSTAMP:20260424T160430
CREATED:20210715T100124Z
LAST-MODIFIED:20210916T105317Z
UID:6547-1632603600-1632603600@alt2.klangforum.at
SUMMARY:RuhrTriennale Bochum\, Nachtraum
DESCRIPTION:  \n  \n\n\n\nAUF MATTEN GEBETTET\, TAUCHT DAS PUBLIKUM MIT DEM KLANGFORUM WIEN IN EINEN MONUMENTALEN NACHTRAUM EIN. \n \nIm Einschlafen\, kurz bevor das Unterbewusstsein das Zepter übernimmt\, hält der noch luzide Geist den Schlüssel zu einer zeitvergessenen Welt voller Weisheit\, Fantasie und Angst in der Hand. Auf Matten gebettet\, taucht das Publikum mit dem Klangforum Wien in einen monumentalen Nachtraum ein und folgt nacht- und dunkelheitsaffinen Komponist*innen auf unterschiedlichen Wegen in dieses unergründliche Zwischenreich.Text: RuhrTriennale \n \nFerruccio Busoni– Berceuse élégiacque op. 42 \nMirela Ivičević– Sweet Dreams \nIannis Xenakis– Persephassa \nEmmanuel Nunes– Nachtmusik \nRebecca Saunders – Fragments of Yes \nGérard Grisey– Vers la lumière du jour \nSalvatore Sciarrino – Let me die before I wake \nGeorg Friedrich Haas– Streichquartett Nr.3 In ljj. Noct. \nDaisy Press\, Sopran \n\n\n  \n  \n  \n  \n  \n	\n		\n		FacebookTwitterLinkedInWhatsAppVkE-Mail
URL:https://alt2.klangforum.at/kalender/ruhrtriennale-bochum-nachtraum/
LOCATION:Jahrhunderthalle Bochum\, An der Jahrhunderthalle 1\, Bochum\, 44793\, Deutschland
CATEGORIES:Festival,Konzert
ATTACH;FMTTYPE=image/x-citrix-jpeg:https://alt2.klangforum.at/wp-content/uploads/2021/07/RuhrTriennale-2021_Klangforum-Wien_1060x710.jpg
END:VEVENT
END:VCALENDAR