BEGIN:VCALENDAR
VERSION:2.0
PRODID:-//Klangforum Wien - ECPv5.10.0//NONSGML v1.0//EN
CALSCALE:GREGORIAN
METHOD:PUBLISH
X-WR-CALNAME:Klangforum Wien
X-ORIGINAL-URL:https://alt2.klangforum.at
X-WR-CALDESC:Veranstaltungen für Klangforum Wien
BEGIN:VTIMEZONE
TZID:Europe/Berlin
BEGIN:DAYLIGHT
TZOFFSETFROM:+0100
TZOFFSETTO:+0200
TZNAME:CEST
DTSTART:20220327T010000
END:DAYLIGHT
BEGIN:STANDARD
TZOFFSETFROM:+0200
TZOFFSETTO:+0100
TZNAME:CET
DTSTART:20221030T010000
END:STANDARD
END:VTIMEZONE
BEGIN:VEVENT
DTSTART;TZID=Europe/Berlin:20220528T140000
DTEND;TZID=Europe/Berlin:20220528T150000
DTSTAMP:20260424T221100
CREATED:20220118T094511Z
LAST-MODIFIED:20220126T084540Z
UID:9663-1653746400-1653750000@alt2.klangforum.at
SUMMARY:Reading Lessons – Prague Spring Festival
DESCRIPTION:Reading Lessons – Prague Spring Festival \n   Mai 28\,\n14.00 - \n15.00 \n DOX+ Concerthall\, Prag\, Tschechische Republik \n\n\n\nAls Teil des neuen Formats Prague Offspring (Prague Spring Festival) lädt das Klangforum Wien zu einer öffentlichen Probe mit Stücken der Kompositionsstudent*innen Patrik Kako und Sona Vetchá von der Academy of Performing Arts in Prag sowie mit einem Stück des Studenten Pavel Šabacký der Janàček von der Academy of Perfoming Arts in Brno ein. Eine/r der Komponist*innen wird von einer Jury ausgewählt und erhält einen Auftrag als “emerging composer” für das Klangforum-Konzert beim Prague Spring 2023. \nFoto: Benedict Markel \n\n\n\nZu den TicketsZum VeranstalterTBC \nPatrik Kako | Soňa Vetchá | Pavel Šabacký
URL:https://alt2.klangforum.at/kalender/reading-lessons-prague-spring-festival/
LOCATION:DOX+ Concerthall\, Poupětova 1\, Prag\, Tschechische Republik
CATEGORIES:Festival
ATTACH;FMTTYPE=image/x-citrix-jpeg:https://alt2.klangforum.at/wp-content/uploads/2022/01/jarvis_5dcc4ede498e40c80577478f.jpeg
END:VEVENT
END:VCALENDAR