BEGIN:VCALENDAR
VERSION:2.0
PRODID:-//Klangforum Wien - ECPv5.10.0//NONSGML v1.0//EN
CALSCALE:GREGORIAN
METHOD:PUBLISH
X-WR-CALNAME:Klangforum Wien
X-ORIGINAL-URL:https://alt2.klangforum.at
X-WR-CALDESC:Veranstaltungen für Klangforum Wien
BEGIN:VTIMEZONE
TZID:Europe/Berlin
BEGIN:DAYLIGHT
TZOFFSETFROM:+0100
TZOFFSETTO:+0200
TZNAME:CEST
DTSTART:20210328T010000
END:DAYLIGHT
BEGIN:STANDARD
TZOFFSETFROM:+0200
TZOFFSETTO:+0100
TZNAME:CET
DTSTART:20211031T010000
END:STANDARD
END:VTIMEZONE
BEGIN:VEVENT
DTSTART;TZID=Europe/Berlin:20210816T193000
DTEND;TZID=Europe/Berlin:20210816T200000
DTSTAMP:20260424T172408
CREATED:20210126T144744Z
LAST-MODIFIED:20210819T094115Z
UID:4628-1629142200-1629144000@alt2.klangforum.at
SUMMARY:Preisträgerkonzert — impuls. Festival
DESCRIPTION:  \n  \n\n  \n\n\n\nDas Konzert präsentiert die Uraufführungen der PreisträngerInnen des impuls. Internationaler Kompositionswettbewerb und findet im Rahmen der impuls. 12. Internationale Ensemble- und Komponistenakademie für zeitgenössische Musik statt. \n\n\n  \n\n  \n\n\nProgramm \n\n\nOle Hübner— masse und bewegung 3 (UA) Alexander Kaiser— FEED ME! (UA) Sonja Mutić—K O N T A K T (UA)Emre Sihan Kaleli  —Adjacent rooms\, a part of a labyrinth (UA)Yiqing Zhu— Deep Blue (UA) \nDirigent: Bas Wiegers \n\n\n  \n\n  \n\n  \n  \n  \n  \n  \n  \n  \n	\n		\n		FacebookTwitterLinkedInWhatsAppVkE-Mail
URL:https://alt2.klangforum.at/kalender/preistragerkonzert/
LOCATION:Helmut List Halle\, Graz\, Österreich\, Waagner-Biro-Straße 98a\, Graz\, 8020\, Österreich
CATEGORIES:Festival
ATTACH;FMTTYPE=image/jpeg:https://alt2.klangforum.at/wp-content/uploads/2020/06/02_Ensemble_Klangforum_Wien_HR_c_Tina_Herzl-scaled.jpg
END:VEVENT
END:VCALENDAR