BEGIN:VCALENDAR
VERSION:2.0
PRODID:-//Klangforum Wien - ECPv5.10.0//NONSGML v1.0//EN
CALSCALE:GREGORIAN
METHOD:PUBLISH
X-WR-CALNAME:Klangforum Wien
X-ORIGINAL-URL:https://alt2.klangforum.at
X-WR-CALDESC:Veranstaltungen für Klangforum Wien
BEGIN:VTIMEZONE
TZID:Europe/Berlin
BEGIN:DAYLIGHT
TZOFFSETFROM:+0100
TZOFFSETTO:+0200
TZNAME:CEST
DTSTART:20220327T010000
END:DAYLIGHT
BEGIN:STANDARD
TZOFFSETFROM:+0200
TZOFFSETTO:+0100
TZNAME:CET
DTSTART:20221030T010000
END:STANDARD
END:VTIMEZONE
BEGIN:VEVENT
DTSTART;TZID=Europe/Berlin:20220527T200000
DTEND;TZID=Europe/Berlin:20220527T200000
DTSTAMP:20260424T190051
CREATED:20220110T154028Z
LAST-MODIFIED:20220203T092825Z
UID:9302-1653681600-1653681600@alt2.klangforum.at
SUMMARY:Prague Spring Festival I.
DESCRIPTION:Prague Spring Festival I. \n   Mai 27\,\n20.00 - \n20.00 \n DOX+ Concerthall\, Prag\, Tschechische Republik \nDas neue Format Prague Offspring\, welches im Rahmen des Prague Spring Festivals stattfindet\, widmet sich ganz der zeitgenössischen Musik. Über einen Zeitraum von zwei Tagen erwacht das DOX+ Zentrum für zeitgenössische Kunst zum Leben und präsentiert das Neuste aus der internationalen und lokalen zeitgenössischen Szene. Das Klangforum Wien begleitet das Format und tritt als „ensemble-in-residence“ auf. \nDas erste Konzert\, das auf dem Programm steht\, beginnt mit der Musik von „composer-in-residence“ Olga Neuwirth. Das Klangforum Wien spielt zwei ihrer Werke – eine Komposition für das Klavier „incidendo/fluido“ und ihr Meisterwerk für Trompete und Ensemble „…miramondo multiplo…“. Daneben werden auch Werke der Komponist*innen Martin Smolka und Clara Iannotta zu hören sein. \nWir laden ab 18.30 Uhr zu einem Pre-Concert Talk mit den Komponist*innen Olga Neuwirth und Martin Smolka ein. \nFoto: Harald Hoffmann \nZu den TicketsZum VeranstalterOlga Neuwirth\n– incidendo/fluido\nMartin Smolka \n– Angel Steps (UA\, Auftrag von Prague Spring Festival)\nClara Iannotta \n– a stir among the stars\, a making way\nOlga Neuwirth \n– …miramondo multiplo… \nBas Wiegers \nOlga Neuwirth | Martin Smolka | Clara Iannotta
URL:https://alt2.klangforum.at/kalender/prague-spring-festival-2/
LOCATION:DOX+ Concerthall\, Poupětova 1\, Prag\, Tschechische Republik
CATEGORIES:Festival,Konzert
ATTACH;FMTTYPE=image/x-citrix-jpeg:https://alt2.klangforum.at/wp-content/uploads/2022/01/Olga-Neuwirth-©-Harald-Hoffmann.jpg
END:VEVENT
END:VCALENDAR