BEGIN:VCALENDAR
VERSION:2.0
PRODID:-//Klangforum Wien - ECPv5.10.0//NONSGML v1.0//EN
CALSCALE:GREGORIAN
METHOD:PUBLISH
X-WR-CALNAME:Klangforum Wien
X-ORIGINAL-URL:https://alt2.klangforum.at
X-WR-CALDESC:Veranstaltungen für Klangforum Wien
BEGIN:VTIMEZONE
TZID:Europe/Berlin
BEGIN:DAYLIGHT
TZOFFSETFROM:+0100
TZOFFSETTO:+0200
TZNAME:CEST
DTSTART:20220327T010000
END:DAYLIGHT
BEGIN:STANDARD
TZOFFSETFROM:+0200
TZOFFSETTO:+0100
TZNAME:CET
DTSTART:20221030T010000
END:STANDARD
END:VTIMEZONE
BEGIN:VEVENT
DTSTART;TZID=Europe/Berlin:20220323T200000
DTEND;TZID=Europe/Berlin:20220323T230000
DTSTAMP:20260422T120320
CREATED:20220119T154912Z
LAST-MODIFIED:20220203T114135Z
UID:9794-1648065600-1648076400@alt2.klangforum.at
SUMMARY:MaerzMusik – Occam Océan
DESCRIPTION:MaerzMusik – Occam Océan \n   März 23\,\n20.00 - \n23.00 \n Philharmonie\, Kammermusiksaal\, Berlin\, Deutschland \nÉliane Radigues erstes Orchesterwerk „Occam Océan“ kennzeichnet die dritte Schaffensperiode der Musikpionierin und ist zugleich ein Beispiel für kollektiven Wissenstransfer durch mündliche und auditive Überlieferung – verkörpert und aufgeführt von Mitgliedern des Klangforum Wien gemeinsam mit ONCEIM. \nDieser Konzertabend widmet sich eines der großartigsten Stücke aus Éliane Radigues dritter Schaffensperiode mit rein instrumentalen Kompositionen\, die auch als „Occam“-Zyklus bekannt ist. Es ist verlockend\, „Occam Océan“ angesichts seiner großen Besetzung als das „Opus summum“ ihres Spätwerks zu betrachten\, wäre da nicht Radigues Philosophie\, die sich einer solchen Kategorisierung widersetzt. \nRadigues Instrumentalwerk zeichnet sich nicht nur durch seine musikalische Qualität und die Fähigkeit aus\, ein zugängliches und gemeinschaftliches Hörerlebnis zwischen Musiker*innen und Publikum zu schaffen. Es ist auch unnachahmlich in seiner Praxis\, das Wissen der Komposition kollektiv zu halten\, in einem zwischenmenschlichen Raum wachsen zu lassen und weiterzugeben\, ohne sich des autoritativen Gestus der Schrift zu bedienen. \nUm den Wissenstransfer dieses Stücks fortzusetzen\, lädt MaerzMusik das renommierte Klangforum Wien ein\, „Occam Océan“ gemeinsam mit ONCEIM\, (l’Orchestre de Nouvelles Créations\, Expérimentations et Improvisation Musicales) aufzuführen. Mitgliedern beider Gruppen treffen sich beim Festival in Berlin\, um sich auszutauschen\, zuzuhören\, zu spielen und die lebendige Erinnerung an „Occam Océan“ gemeinsam zu verkörpern. Bevor sie sich zusammentun\, spielen beide Ensembles Werke aus ihrem jeweiligen Repertoire\, von den Komponistinnen Liza Lim und Patricia Bosshard. \nText: Berliner Festspiele \nZu den TicketsZum VeranstalterLiza Lim\n– Extinction Events and Dawn Chorus\nEliane Radigue\n– Occam Océan \nLeonhard Garms \nLiza Lim | Eliane Radigue
URL:https://alt2.klangforum.at/kalender/occam-ocean/
LOCATION:Philharmonie\, Kammermusiksaal\, Berlin\, Deutschland
CATEGORIES:Festival,Konzert
ATTACH;FMTTYPE=image/x-citrix-jpeg:https://alt2.klangforum.at/wp-content/uploads/2022/01/mm22_p_visual_01-1.jpg
END:VEVENT
END:VCALENDAR