BEGIN:VCALENDAR
VERSION:2.0
PRODID:-//Klangforum Wien - ECPv5.10.0//NONSGML v1.0//EN
CALSCALE:GREGORIAN
METHOD:PUBLISH
X-WR-CALNAME:Klangforum Wien
X-ORIGINAL-URL:https://alt2.klangforum.at
X-WR-CALDESC:Veranstaltungen für Klangforum Wien
BEGIN:VTIMEZONE
TZID:Europe/Berlin
BEGIN:DAYLIGHT
TZOFFSETFROM:+0100
TZOFFSETTO:+0200
TZNAME:CEST
DTSTART:20220327T010000
END:DAYLIGHT
BEGIN:STANDARD
TZOFFSETFROM:+0200
TZOFFSETTO:+0100
TZNAME:CET
DTSTART:20221030T010000
END:STANDARD
END:VTIMEZONE
BEGIN:VEVENT
DTSTART;TZID=Europe/Berlin:20221205T200000
DTEND;TZID=Europe/Berlin:20221205T213000
DTSTAMP:20260424T175447
CREATED:20221007T085850Z
LAST-MODIFIED:20221103T172320Z
UID:12280-1670270400-1670275800@alt2.klangforum.at
SUMMARY:Konzert V
DESCRIPTION:Konzert V \n   Dezember 5\,\n20.00 - \n21.30 \n New Music Forum Ljubljana\, \,  \nZu den TicketsZum VeranstalterKlanglandschaften    \nProgrammauswahl: Alex Lipowski\, Schlagzeug   \nCatherine Lamb: Curvo totalitas Karlheinz Stockhausen: Mikrophonie I\n   \n Klangforum Wien   \n*** in Zusammenarbeit mit Cankarjev dom. \nTBC \nCatherine Lamb | Karlheinz Stockhausen
URL:https://alt2.klangforum.at/kalender/new-music-forum-ljubljana-klanglandschaften/
LOCATION:New Music Forum Ljubljana
CATEGORIES:Festival
ATTACH;FMTTYPE=image/x-png:https://alt2.klangforum.at/wp-content/uploads/2022/09/298932911_522253189709666_1120402053654449957_n.png
END:VEVENT
END:VCALENDAR