BEGIN:VCALENDAR
VERSION:2.0
PRODID:-//Klangforum Wien - ECPv5.10.0//NONSGML v1.0//EN
CALSCALE:GREGORIAN
METHOD:PUBLISH
X-WR-CALNAME:Klangforum Wien
X-ORIGINAL-URL:https://alt2.klangforum.at
X-WR-CALDESC:Veranstaltungen für Klangforum Wien
BEGIN:VTIMEZONE
TZID:Europe/Berlin
BEGIN:DAYLIGHT
TZOFFSETFROM:+0100
TZOFFSETTO:+0200
TZNAME:CEST
DTSTART:20210328T010000
END:DAYLIGHT
BEGIN:STANDARD
TZOFFSETFROM:+0200
TZOFFSETTO:+0100
TZNAME:CET
DTSTART:20211031T010000
END:STANDARD
END:VTIMEZONE
BEGIN:VEVENT
DTSTART;TZID=Europe/Berlin:20210628T193000
DTEND;TZID=Europe/Berlin:20210628T223000
DTSTAMP:20260424T202707
CREATED:20210525T132218Z
LAST-MODIFIED:20210621T092038Z
UID:6161-1624908600-1624919400@alt2.klangforum.at
SUMMARY:MUMUTH
DESCRIPTION:19.30 Uhr \n\n\n\n\nDas Studium „Performance Practice in Contemporary Music“ ist in dieser Form weltweit einzigartig: Das renommierte Klangforum Wien hat als Ensemble eine Professur\, die auf die besonderen Herausforderungen Neuer Musik vorbereitet. Einmal im Jahr erarbeiten Klangforum-Musiker*innen und ihre Studierenden ein großes gemeinsames Konzertprojekt\, diesmal unter der Leitung des ehemaligen KUG-Studierenden Patrick Hahn\, der gerade zum jüngsten Generalmusikdirektor Deutschlands bestellt wurde. Das Programm ist eine Mischung zwischen Tradition und Gegenwart der Moderne. Im Mittelpunkt stehen drei Generationen von österreichischen Komponisten\, u.a. auch Friedrich Cerha\, der am 17. Februar dieses Jahres seinen 95. Geburtstag feiern wird.Anton von Webern    — Op. 6 Friedrich Cerha    — Quellen Johannes Staud    — Auf die Stimme der weißen Kreide PPCM-Studierende gemeinsam mit Mitgliedern des Klangforum WienDirigent: Patrick HahnLive-Stream: tba \n\n\n\n\n\n\n\n\n\nZum Livestreaming\n\n\n\n\n\n\n\n\n\n	\n		\n		FacebookTwitterLinkedInWhatsAppVkE-Mail
URL:https://alt2.klangforum.at/kalender/mumuth/
LOCATION:MUMUTH — György-Ligeti-Saal\, Leonhardstraße 15\, Graz\, 8010\, Österreich
CATEGORIES:Performance Practice in Contemporary Music
ATTACH;FMTTYPE=image/x-png:https://alt2.klangforum.at/wp-content/uploads/2021/05/Beitragsbild-Klangforum-web3.png
END:VEVENT
END:VCALENDAR