BEGIN:VCALENDAR
VERSION:2.0
PRODID:-//Klangforum Wien - ECPv5.10.0//NONSGML v1.0//EN
CALSCALE:GREGORIAN
METHOD:PUBLISH
X-WR-CALNAME:Klangforum Wien
X-ORIGINAL-URL:https://alt2.klangforum.at
X-WR-CALDESC:Veranstaltungen für Klangforum Wien
BEGIN:VTIMEZONE
TZID:Europe/Berlin
BEGIN:DAYLIGHT
TZOFFSETFROM:+0100
TZOFFSETTO:+0200
TZNAME:CEST
DTSTART:20210328T010000
END:DAYLIGHT
BEGIN:STANDARD
TZOFFSETFROM:+0200
TZOFFSETTO:+0100
TZNAME:CET
DTSTART:20211031T010000
END:STANDARD
END:VTIMEZONE
BEGIN:VEVENT
DTSTART;TZID=Europe/Berlin:20210605T190000
DTEND;TZID=Europe/Berlin:20210605T223000
DTSTAMP:20260424T160410
CREATED:20210514T104742Z
LAST-MODIFIED:20210713T102414Z
UID:5889-1622919600-1622932200@alt2.klangforum.at
SUMMARY:Bayerische Staatsoper
DESCRIPTION:19.00 Uhr \n\n\n\n\nSINGULARITY — PREMIERE + URAUFFÜHRUNG \n\n\n\nProgramm:Miroslav Srnka   — SingularityKlangforum WienEliza Boom\, Sopran Analog Juliana Zara\, Sopran Digital  Daria Proszek\, Mezzo Analog Yajie Zhang\, Mezzo Digital  George Vîrban\, Tenor Analog  Andres Agudelo\, Tenor Digital  Andrew Hamilton\, Bariton Analog  Theodore Platt\, Bariton Digital Dirigent: Patrick Hahn \n\n\n\nOpernstudio der Bayerischen Staatsoper \n\n\n\n\n  \n\n\n\n\n	\n		\n		FacebookTwitterLinkedInWhatsAppVkE-Mail
URL:https://alt2.klangforum.at/kalender/muenchener-biennale/
LOCATION:Cuvilliéstheater\, Residenzstraße 1\, München\, 80333\, Deutschland
CATEGORIES:Premiere
ATTACH;FMTTYPE=image/x-png:https://alt2.klangforum.at/wp-content/uploads/2021/03/Miroslav-Srnka_Foto_Vojtech-Havlik.png
END:VEVENT
END:VCALENDAR