BEGIN:VCALENDAR
VERSION:2.0
PRODID:-//Klangforum Wien - ECPv5.10.0//NONSGML v1.0//EN
CALSCALE:GREGORIAN
METHOD:PUBLISH
X-WR-CALNAME:Klangforum Wien
X-ORIGINAL-URL:https://alt2.klangforum.at
X-WR-CALDESC:Veranstaltungen für Klangforum Wien
BEGIN:VTIMEZONE
TZID:Europe/Berlin
BEGIN:DAYLIGHT
TZOFFSETFROM:+0100
TZOFFSETTO:+0200
TZNAME:CEST
DTSTART:20220327T010000
END:DAYLIGHT
BEGIN:STANDARD
TZOFFSETFROM:+0200
TZOFFSETTO:+0100
TZNAME:CET
DTSTART:20221030T010000
END:STANDARD
END:VTIMEZONE
BEGIN:VEVENT
DTSTART;TZID=Europe/Berlin:20220519T201500
DTEND;TZID=Europe/Berlin:20220519T211500
DTSTAMP:20260422T120153
CREATED:20220331T075757Z
LAST-MODIFIED:20220516T082606Z
UID:11124-1652991300-1652994900@alt2.klangforum.at
SUMMARY:Mars I
DESCRIPTION:Mars I \n   Mai 19\,\n20.15 - \n21.15 \n Muziekgebouw\, Amsterdam\, Niederlande \nFür Technikgurus wie Elon Musk steht fest: Die Rettung der Menschheit liegt in der Besiedlung des Mars. Aber ist der Mars wirklich unser „Planet B“? Die Komponistin Jennifer Walshe ist seit ihrer Kindheit vom roten Planeten fasziniert. In ihrem neuen Multimediawerk MARS untersucht sie durch die Linse ihrer eigenen Obsession einen entzündlichen Themencocktail: Technologie\, Silicon Valley\, Kapitalismus\, die Klimakatastrophe und unseren Platz im Universum. Willkommen im Walshe Space Centre. \nJennifer Walshe hat bereits mit der philosophischen Oper TIME TIME TIME\, die sie für das Festival Sonic Acts im Muziekgebouw entwickelte\, einen Volltreffer gelandet. Für sie ist Musik eine Möglichkeit\, Ideen auf kritische und anregende Weise zu erkunden. Der Text für MARS wurde von dem Journalisten Mark O’Connell verfasst\, der mit To Be a Machine ein preisgekröntes Buch über Transhumanismus“ geschrieben hat\, also die Idee\, dass die Menschheit sich mit neuen Technologien aufrüsten“ muss\, um zu überleben. \nDie Komposition MARS wurde von Muziekgebouw in Auftrag gegeben und von Ammodo unterstützt. \nText: Muziekgebouw\nFoto: Blackie Bouffant \nZu den TicketsZum VeranstalterJennifer Walshe\n– Mars (UA) \nLore Lixenberg\, Stimme\nElaine Mitchener\, Stimme \nDelyana Lazarova \nJennifer Walshe
URL:https://alt2.klangforum.at/kalender/mars-3/
LOCATION:Muziekgebouw\, Piet Heinkade 1\, Amsterdam\, 1019 BR\, Niederlande
CATEGORIES:Konzert
ATTACH;FMTTYPE=image/x-citrix-jpeg:https://alt2.klangforum.at/wp-content/uploads/2022/03/imd-walsheJennifer.jpeg
END:VEVENT
END:VCALENDAR