BEGIN:VCALENDAR
VERSION:2.0
PRODID:-//Klangforum Wien - ECPv5.10.0//NONSGML v1.0//EN
CALSCALE:GREGORIAN
METHOD:PUBLISH
X-WR-CALNAME:Klangforum Wien
X-ORIGINAL-URL:https://alt2.klangforum.at
X-WR-CALDESC:Veranstaltungen für Klangforum Wien
BEGIN:VTIMEZONE
TZID:Europe/Berlin
BEGIN:DAYLIGHT
TZOFFSETFROM:+0100
TZOFFSETTO:+0200
TZNAME:CEST
DTSTART:20210328T010000
END:DAYLIGHT
BEGIN:STANDARD
TZOFFSETFROM:+0200
TZOFFSETTO:+0100
TZNAME:CET
DTSTART:20211031T010000
END:STANDARD
END:VTIMEZONE
BEGIN:VEVENT
DTSTART;TZID=Europe/Berlin:20210903T193000
DTEND;TZID=Europe/Berlin:20210903T193000
DTSTAMP:20260425T010634
CREATED:20210715T084618Z
LAST-MODIFIED:20210901T131658Z
UID:6512-1630697400-1630697400@alt2.klangforum.at
SUMMARY:Lausitz Festival\, Schwellenzauber
DESCRIPTION:  \n  \n\n\n\nGiacinto Scelsi – Okanagon Hf\, Cb\, Perc  \nGeorges Aperghis – Ruinen  \nGérard Grisey– Quatre chants pour franchir le seuil  \nDirigent: Sylvain CambrelingPosaune: Mikael Rudolfsson \n \n  \nDie mikrotonale Musik von Giacinto Scelsi\, die Spektralmusik von Gerard Grisey und die Klänge von Georges Aperghis schöpfen das Obertonspektrum ästhetisch aus und lassen uns Schwellen in der Musik wahrnehmen und überschreiten. Scelsis »Okanagon« (1968) trägt den poetischen Untertitel »Der Herzschlag der Erde«\, Aperghis’ »Ruinen« (1994) lässt Vergangenes hörbar werden und Griseys letztes Werk\, »Quatre chants pour franchir le seuil« (1998) lässt schon im Titel vierfach eine Schwelle überschreiten\, die in sinnlich aufregend neue Klangräume führt. Text: Lausitz Festival \n\n\n  \n  \n  \n  \n  \n	\n		\n		FacebookTwitterLinkedInWhatsAppVkE-Mail
URL:https://alt2.klangforum.at/kalender/lausitz-festival/
LOCATION:St. Peter und Paul\, Bei der Peterskirche 9\, Görlitz\, 02826\, Deutschland
CATEGORIES:Festival,Konzert
ATTACH;FMTTYPE=image/x-citrix-jpeg:https://alt2.klangforum.at/wp-content/uploads/2021/07/900x600_Lausitzfestival.jpg
END:VEVENT
END:VCALENDAR