BEGIN:VCALENDAR
VERSION:2.0
PRODID:-//Klangforum Wien - ECPv5.10.0//NONSGML v1.0//EN
CALSCALE:GREGORIAN
METHOD:PUBLISH
X-WR-CALNAME:Klangforum Wien
X-ORIGINAL-URL:https://alt2.klangforum.at
X-WR-CALDESC:Veranstaltungen für Klangforum Wien
BEGIN:VTIMEZONE
TZID:Europe/Berlin
BEGIN:DAYLIGHT
TZOFFSETFROM:+0100
TZOFFSETTO:+0200
TZNAME:CEST
DTSTART:20210328T010000
END:DAYLIGHT
BEGIN:STANDARD
TZOFFSETFROM:+0200
TZOFFSETTO:+0100
TZNAME:CET
DTSTART:20211031T010000
END:STANDARD
END:VTIMEZONE
BEGIN:VEVENT
DTSTART;TZID=Europe/Berlin:20210621T200000
DTEND;TZID=Europe/Berlin:20210621T230000
DTSTAMP:20260424T160622
CREATED:20210323T131649Z
LAST-MODIFIED:20210811T090858Z
UID:3453-1624305600-1624316400@alt2.klangforum.at
SUMMARY:Konzert zum 95. Geburtstag von Friedrich Cerha
DESCRIPTION:20.00 Uhr \n\n\n\n\nKonzert zum 95. Geburtstag von Friedrich Cerha gemeinsam mit Ernst Kovacic\, Mathilde Hoursiangou\, Andreas Schablas\, Janna Polyzoides\, Boulanger Trio. \n\n\n\nProgramm: Friedrich Cerha— Acht Sätze nach Hölderlin Fragmenten für Streichsextett \n\n\n\n\n\n\n\n	\n		\n		FacebookTwitterLinkedInWhatsAppVkE-Mail
URL:https://alt2.klangforum.at/kalender/konzert-zum-95-geburtstag-von-friedrich-cerha/
LOCATION:Musikverein\, Gläserner Saal\, Musikvereinsplatz 1\, Wien\, 1010\, Österreich
CATEGORIES:Konzert
ATTACH;FMTTYPE=image/x-citrix-jpeg:https://alt2.klangforum.at/wp-content/uploads/2020/10/kf-cerha-2907.jpg
END:VEVENT
END:VCALENDAR