BEGIN:VCALENDAR
VERSION:2.0
PRODID:-//Klangforum Wien - ECPv5.10.0//NONSGML v1.0//EN
CALSCALE:GREGORIAN
METHOD:PUBLISH
X-WR-CALNAME:Klangforum Wien
X-ORIGINAL-URL:https://alt2.klangforum.at
X-WR-CALDESC:Veranstaltungen für Klangforum Wien
BEGIN:VTIMEZONE
TZID:Europe/Berlin
BEGIN:DAYLIGHT
TZOFFSETFROM:+0100
TZOFFSETTO:+0200
TZNAME:CEST
DTSTART:20230326T010000
END:DAYLIGHT
BEGIN:STANDARD
TZOFFSETFROM:+0200
TZOFFSETTO:+0100
TZNAME:CET
DTSTART:20231029T010000
END:STANDARD
END:VTIMEZONE
BEGIN:VEVENT
DTSTART;TZID=Europe/Berlin:20230222T201500
DTEND;TZID=Europe/Berlin:20230222T213000
DTSTAMP:20260424T201637
CREATED:20221130T115518Z
LAST-MODIFIED:20230116T131202Z
UID:12696-1677096900-1677101400@alt2.klangforum.at
SUMMARY:Klangforum Wien & Bas Wiegers
DESCRIPTION:Klangforum Wien & Bas Wiegers \n   Februar 22\,\n20.15 - \n21.30 \n de Doelen\, Willem Burger Zaal\, Rotterdam\, Niederlande \n„Auch im Speicher geraten ständig Dinge in Unordnung.“ Dem Unvorhersehbaren hörend auf der Spur. Enno Poppes Meisterwerk SPEICHER ist eine Einladung\, im anscheinend bekannt Ungeordneten das blitzend Neue auszumachen. \nZu den TicketsZum VeranstalterSpeicher I-VI \nBas Wiegers \nEnno Poppe
URL:https://alt2.klangforum.at/kalender/klangforum-wien-bas-wiegers%e2%80%af/
LOCATION:de Doelen\, Willem Burger Zaal\, Rotterdam\, Niederlande
CATEGORIES:Konzert
ATTACH;FMTTYPE=image/x-citrix-jpeg:https://alt2.klangforum.at/wp-content/uploads/2022/11/img45426_282.jpg
END:VEVENT
END:VCALENDAR