BEGIN:VCALENDAR
VERSION:2.0
PRODID:-//Klangforum Wien - ECPv5.10.0//NONSGML v1.0//EN
CALSCALE:GREGORIAN
METHOD:PUBLISH
X-WR-CALNAME:Klangforum Wien
X-ORIGINAL-URL:https://alt2.klangforum.at
X-WR-CALDESC:Veranstaltungen für Klangforum Wien
BEGIN:VTIMEZONE
TZID:Europe/Berlin
BEGIN:DAYLIGHT
TZOFFSETFROM:+0100
TZOFFSETTO:+0200
TZNAME:CEST
DTSTART:20220327T010000
END:DAYLIGHT
BEGIN:STANDARD
TZOFFSETFROM:+0200
TZOFFSETTO:+0100
TZNAME:CET
DTSTART:20221030T010000
END:STANDARD
END:VTIMEZONE
BEGIN:VEVENT
DTSTART;TZID=Europe/Berlin:20220528T170000
DTEND;TZID=Europe/Berlin:20220528T183000
DTSTAMP:20260424T190703
CREATED:20220118T092343Z
LAST-MODIFIED:20220118T092343Z
UID:9657-1653757200-1653762600@alt2.klangforum.at
SUMMARY:Klangforum Master Class – Prague Spring Festival
DESCRIPTION:Klangforum Master Class – Prague Spring Festival \n   Mai 28\,\n17.00 - \n18.30 \n DOX+ Concerthall\, Prag\, Tschechische Republik \nDas Klangforum Wien lädt zu einer öffentlichen Meisterklasse für Instrumentalstudent*innen ein\, die während des Prague Spring Festivals stattfindet. Interessierter Studierende können sich über die E-Mail Adresse masterclass@festival.cz bis zum 31. März 2022 für die Meisterklasse registrieren. \nDas neue Format Prague Offspring\, welches im Rahmen des Prague Spring Festivals stattfindet\, widmet sich ganz der zeitgenössischen Musik. Über einen Zeitraum von zwei Tagen erwacht das DOX+ Zentrum für zeitgenössische Kunst zum Leben und präsentiert das Neuste aus der internationalen und lokalen zeitgenössischen Szene. Das Klangforum Wien begleitet das Format und tritt als „ensemble-in-residence“ auf. \n  \nZu den TicketsZum VeranstalterTBC
URL:https://alt2.klangforum.at/kalender/klangforum-master-class-prague-spring-festival/
LOCATION:DOX+ Concerthall\, Poupětova 1\, Prag\, Tschechische Republik
CATEGORIES:Festival
ATTACH;FMTTYPE=image/x-citrix-jpeg:https://alt2.klangforum.at/wp-content/uploads/2022/01/image-dox-doxplus-2.jpg
END:VEVENT
END:VCALENDAR