BEGIN:VCALENDAR
VERSION:2.0
PRODID:-//Klangforum Wien - ECPv5.10.0//NONSGML v1.0//EN
CALSCALE:GREGORIAN
METHOD:PUBLISH
X-WR-CALNAME:Klangforum Wien
X-ORIGINAL-URL:https://alt2.klangforum.at
X-WR-CALDESC:Veranstaltungen für Klangforum Wien
BEGIN:VTIMEZONE
TZID:Europe/Berlin
BEGIN:DAYLIGHT
TZOFFSETFROM:+0100
TZOFFSETTO:+0200
TZNAME:CEST
DTSTART:20210328T010000
END:DAYLIGHT
BEGIN:STANDARD
TZOFFSETFROM:+0200
TZOFFSETTO:+0100
TZNAME:CET
DTSTART:20211031T010000
END:STANDARD
END:VTIMEZONE
BEGIN:VEVENT
DTSTART;TZID=Europe/Berlin:20210801T200000
DTEND;TZID=Europe/Berlin:20210801T220000
DTSTAMP:20260424T175331
CREATED:20210623T104542Z
LAST-MODIFIED:20210811T090805Z
UID:6327-1627848000-1627855200@alt2.klangforum.at
SUMMARY:ImPulsTanz
DESCRIPTION:20.00 Uhr \n  \n\n\n\n  \nIn Memoriam Ismael Ivo \nÜber diese Art des Gedenkens an sein Leben\, an seinen Tanz und an die wunderbare Zeit\, die Ismael Ivo seinem Publikum gegeben hat\, hätte er sich wohl am meisten gefreut: wenn einige der unzähligen Künstler*innen\, die er geschätzt und in dem von ihm mitgegründeten ImPulsTanz-Festival präsentiert und gefördert hat\, auf der Bühne zusammenkommen und in seinem Namen die Kunst feiern\, die ihm so viel bedeutete. Genau das wird an diesem Abend geschehen. In Wien\, wo viele seiner Fans ihn seit fast vierzig Jahren als Zuschauer*innen\, als künstlerische Partner*innen oder als Besucher*innen seines Unterrichts verehren. Ismael Ivo hat den Tanz mit seinem Wissen\, seinem Talent und seinem Charisma zu dem mitverholfen\, was er heute ist: eine Kunst\, die aus der Gegenwartskultur nicht mehr wegzudenken ist. Auf der Volkstheater-Bühne werden Größen dieser Kunst wie unter anderen Germaine Acogny\, Jose Agudo\, Ivo Dimchev\, Raja Feather Kelly\, das Klangforum Wien\, Koffi Kôkô\, Louise Lecavalier\, Dada Masilo\, Akemi Takeya und Doris Uhlich ihn gebührend hochleben lassen. \n  \nGyörgy Kurtág – In Nomine – all’ongherese \nMarkus Deuter\, EnglischhornToshio Hosokawa – Small Chant for Cello \nBenedikt Leitner\, VioloncelloJ.S.Bach\, Allemanda Double aus der Partita in h-moll\, BWV 1002 \nAnnette Bik\, Violine \n\n\n  \n  \n  \n  \n	\n		\n		FacebookTwitterLinkedInWhatsAppVkE-Mail
URL:https://alt2.klangforum.at/kalender/impulstanz-in-memoriam-ismael-ivo/
LOCATION:Volkstheater\, Arthur-Schnitzler-Platz 1\, Wien\, 1070\, Österreich
CATEGORIES:Festival,Konzert
ATTACH;FMTTYPE=image/x-citrix-jpeg:https://alt2.klangforum.at/wp-content/uploads/2021/06/a7bf4c21840a9922cdc1c327a779eab9-1.jpg
END:VEVENT
END:VCALENDAR