BEGIN:VCALENDAR
VERSION:2.0
PRODID:-//Klangforum Wien - ECPv5.10.0//NONSGML v1.0//EN
CALSCALE:GREGORIAN
METHOD:PUBLISH
X-WR-CALNAME:Klangforum Wien
X-ORIGINAL-URL:https://alt2.klangforum.at
X-WR-CALDESC:Veranstaltungen für Klangforum Wien
BEGIN:VTIMEZONE
TZID:Europe/Berlin
BEGIN:DAYLIGHT
TZOFFSETFROM:+0100
TZOFFSETTO:+0200
TZNAME:CEST
DTSTART:20220327T010000
END:DAYLIGHT
BEGIN:STANDARD
TZOFFSETFROM:+0200
TZOFFSETTO:+0100
TZNAME:CET
DTSTART:20221030T010000
END:STANDARD
END:VTIMEZONE
BEGIN:VEVENT
DTSTART;TZID=Europe/Berlin:20220908T193000
DTEND;TZID=Europe/Berlin:20220908T210000
DTSTAMP:20260425T000434
CREATED:20220610T074332Z
LAST-MODIFIED:20220906T135517Z
UID:11809-1662665400-1662670800@alt2.klangforum.at
SUMMARY:Im Strudel der Zeit: Messiaen und seine Schüler
DESCRIPTION:Im Strudel der Zeit: Messiaen und seine Schüler \n   September 8\,\n19.30 - \n21.00 \n Gedenkstätte Stalag VIII A\, Zgorzelec\, Polen \n\n\n\nBereits im vergangenen Jahr zog das Klangforum Wien das Publikum des Lausitz Festivals in einen klangsinnlichen Bann. Dieses Jahr kehrt das Ensemble zurück und präsentiert ein Messiaens Erbe gewidmetes Programm. Dabei trifft die Stimme Olivier Messiaens gleich einem Echo des zurückliegenden Impressionismus auf die von ihm inspirierte Spektralmusik von Tristan Murail und schließlich auf das Werk seines Schülers George Benjamin\, der musikalisch komplexe Architektur mit sinnlicher Schönheit verbindet. Auch Messiaens Zeitgenosse Gérard Grisey beschreibt mit »Vortex Temporum« (Im Strudel der Zeit) eine Zeitenwende. \n\n\n\n\n\n\n\n\nZu den TicketsZum VeranstalterTristan Murail\n– the bronze age \nOlivier Messiaen\n– theme et variations \nGeorge Benjamin\n– Octet \nGérard Grisey\n– Vortex temporum I\, II\, III \nJames Baker \nTristan Murail | Olivier Messiaen | George Benjamin | Gérard Grisey
URL:https://alt2.klangforum.at/kalender/im-strudel-der-zeit-messiaen-und-seine-schueler/
LOCATION:Gedenkstätte Stalag VIII A\, Zgorzelec\, Polen
CATEGORIES:Festival
ATTACH;FMTTYPE=image/x-citrix-jpeg:https://alt2.klangforum.at/wp-content/uploads/2022/06/lausitz_og.jpg__1920x1920_q85_subsampling-2_upscale.jpg
END:VEVENT
END:VCALENDAR