BEGIN:VCALENDAR
VERSION:2.0
PRODID:-//Klangforum Wien - ECPv5.10.0//NONSGML v1.0//EN
CALSCALE:GREGORIAN
METHOD:PUBLISH
X-WR-CALNAME:Klangforum Wien
X-ORIGINAL-URL:https://alt2.klangforum.at
X-WR-CALDESC:Veranstaltungen für Klangforum Wien
BEGIN:VTIMEZONE
TZID:Europe/Berlin
BEGIN:DAYLIGHT
TZOFFSETFROM:+0100
TZOFFSETTO:+0200
TZNAME:CEST
DTSTART:20230326T010000
END:DAYLIGHT
BEGIN:STANDARD
TZOFFSETFROM:+0200
TZOFFSETTO:+0100
TZNAME:CET
DTSTART:20231029T010000
END:STANDARD
END:VTIMEZONE
BEGIN:VEVENT
DTSTART;TZID=Europe/Berlin:20230626T180000
DTEND;TZID=Europe/Berlin:20230626T193000
DTSTAMP:20260424T160352
CREATED:20221214T120711Z
LAST-MODIFIED:20221214T121101Z
UID:12883-1687802400-1687807800@alt2.klangforum.at
SUMMARY:Im Portrait: Beat Furrer
DESCRIPTION:Im Portrait: Beat Furrer \n   Juni 26\,\n18.00 - \n19.30 \n György-Ligeti-Saal\, KUG – MUMUTH\, Graz\, Österreich \nStudierende der Studienrichtung Performance Practice in Contemporary Music – Instrumental spielen gemeinsam mit Mitgliedern des Klangforum Wien. \nZu den TicketsZum VeranstalterBeat Furrer \nstudie II – à un moment de terre perdue (1990) \nBeat Furrer \nNUUN für zwei Klaviere und Ensemble (1996) \nBeat Furrer \nLa Bianca Notte – Duett (2013-15) \nPf solo bei NUUN: Milica Zakic und Eunhye Kim (beide PPCM)\nAna Caseiro\, Sopran (PPCM Vokal) \nFelix Heuser ( PPCM Vokal) \nBeat Furrer \nBeat Furrer
URL:https://alt2.klangforum.at/kalender/im-portrait-beat-furrer/
LOCATION:György-Ligeti-Saal\, KUG – MUMUTH\, Graz\, Österreich
CATEGORIES:Konzert
ATTACH;FMTTYPE=image/x-citrix-jpeg:https://alt2.klangforum.at/wp-content/uploads/2022/11/02_Ensemble_Klangforum_Wien_HR_c_Tina_Herzl-1-scaled-2.jpg
END:VEVENT
END:VCALENDAR