BEGIN:VCALENDAR
VERSION:2.0
PRODID:-//Klangforum Wien - ECPv5.10.0//NONSGML v1.0//EN
CALSCALE:GREGORIAN
METHOD:PUBLISH
X-WR-CALNAME:Klangforum Wien
X-ORIGINAL-URL:https://alt2.klangforum.at
X-WR-CALDESC:Veranstaltungen für Klangforum Wien
BEGIN:VTIMEZONE
TZID:Europe/Berlin
BEGIN:DAYLIGHT
TZOFFSETFROM:+0100
TZOFFSETTO:+0200
TZNAME:CEST
DTSTART:20220327T010000
END:DAYLIGHT
BEGIN:STANDARD
TZOFFSETFROM:+0200
TZOFFSETTO:+0100
TZNAME:CET
DTSTART:20221030T010000
END:STANDARD
END:VTIMEZONE
BEGIN:VEVENT
DTSTART;TZID=Europe/Berlin:20220316T203000
DTEND;TZID=Europe/Berlin:20220316T220000
DTSTAMP:20260424T105332
CREATED:20210524T214110Z
LAST-MODIFIED:20220316T093432Z
UID:8849-1647462600-1647468000@alt2.klangforum.at
SUMMARY:Hy Cotyl – Neo Contemporary
DESCRIPTION:Hy Cotyl – Neo Contemporary \n   März 16\,\n20.30 - \n22.00 \n Wiener Konzerthaus\, Mozart-Saal\, Wien\, Österreich \nDas prozesshafte Schreiten scheut die Grenze nicht. Mit Vincent Pongracz bewegt sich das Klangforum Wien hinaus in freies Gelände und schärft seinen Pioniergeist. \nDas Nichtetablierte und Grenzüberschreitende ist dem Rückgrat des Klangforum Wien eingeschrieben. \nDas NYKY Ensemble spielt gemeinsam mit dem Klangforum Wien das Werk „SIRIUS“ der in Finnland ansässigen Komponistin Aslihan Keçebaşoğlu und das Werk „Bird of Paradise“ von Nimikry. \nDas Konzert aus unserer Zyklusreihe PRO©ESSION findet zu zwei Beginnzeiten statt: 18.00 Uhr + 20.30 Uhr. \nZwischen den Konzerten — FERMATE\nIn unserem neuen Gesprächsformat befragen Persönlichkeiten aus verschiedenen Disziplinen gemeinsam mit Künstler*innen und Musiker*inne das eben Gehörte.\nDieses Mal bitten wir Renald Deppe zu Gast. Der 1955 in Bochum geborene Saxophonist\, Klarinettist\, Komponist und Zeichner Renald Deppe lehrt an der Universität für Musik und darstellende Kunst Wien und an der Anton Bruckner Universität Linz. Gemeinsam mit den Komponisten Vincent Pongracz und Nimikry eröffnet er im Gespräch neue Perspektiven auf ihre Werke. \n  \nÜber das NYKY Ensemble\nDas NYKY Ensemble ist eine zeitgenössische Musikgruppe an der Sibelius-Akademie der Universität der Künste Helsinki. Das NYKY Ensemble ist ein Forum für Projekte der zeitgenössischen Musik und ein Fenster für Student*Innen zu Trends und Techniken der zeitgenössischen Musik\, wie zum Beispiel erweiterte Spieltechniken\, Live-Elektronik\, Mikrotonalität\, Minimalismus oder interdisziplinäre Zusammenarbeit. Die Besetzung des Ensembles variiert je nach aufgeführtem Programm\, und für jede Konzertperiode wird das Ensemble von einem auf zeitgenössische Musik spezialisierten Gastmusiker oder -ensemble betreut.\nwww.uniarts.fi \nDie Kooperation des NYKY Ensemble mit dem Klangforum Wien ist Teil des „International Visitor Program“\, das 2019 an der Sibelius Academy\, University of the Arts Helsinki ins Leben gerufen wurde. Es ergänzt die von der Sibelius Academy angebotenen regulären Bachelor- und Master-Studiengänge\, indem es Künstler einlädt\, die das höchste Talentniveau ihres jeweiligen Fachgebiets repräsentieren\, um nach Finnland zu kommen und zu lehren. Die angesehenen Gastkünstler*innen arbeiten zusammen mit Studierenden und Lehrenden an der Sibelius Academy hauptsächlich in Zeiträumen von jeweils einem oder zwei Jahren. \nDas internationale Besucherprogramm der Sibelius Academy wird von der Jane and Aatos Erkko Foundation und der Jenny and Antti Wihuri Foundation unterstützt. \n \nZu den TicketsZum VeranstalterVincent Pongracz\n— Hy Cotyl\nNimikry\n— Bird of Paradise\nAslihan Keçebaşoğlu\n— SIRIUS (UA) \nNYKY Ensemble \nBas Wiegers \nVincent Pongracz | Nimikry | Aslihan Kecebasoglu
URL:https://alt2.klangforum.at/kalender/hy-cotyl-neo-contemporary-2/
LOCATION:Wiener Konzerthaus\, Mozart-Saal\, Lothringerstraße 20\, Wien\, 1030\, Österreich
CATEGORIES:Konzertzyklus,PROCESSION Zyklus 2021/22
ATTACH;FMTTYPE=image/gif:https://alt2.klangforum.at/wp-content/uploads/2021/05/KFW_Procession_Header3_4k-1-scaled.gif
END:VEVENT
END:VCALENDAR