BEGIN:VCALENDAR
VERSION:2.0
PRODID:-//Klangforum Wien - ECPv5.10.0//NONSGML v1.0//EN
CALSCALE:GREGORIAN
METHOD:PUBLISH
X-WR-CALNAME:Klangforum Wien
X-ORIGINAL-URL:https://alt2.klangforum.at
X-WR-CALDESC:Veranstaltungen für Klangforum Wien
BEGIN:VTIMEZONE
TZID:Europe/Berlin
BEGIN:DAYLIGHT
TZOFFSETFROM:+0100
TZOFFSETTO:+0200
TZNAME:CEST
DTSTART:20210328T010000
END:DAYLIGHT
BEGIN:STANDARD
TZOFFSETFROM:+0200
TZOFFSETTO:+0100
TZNAME:CET
DTSTART:20211031T010000
END:STANDARD
END:VTIMEZONE
BEGIN:VEVENT
DTSTART;TZID=Europe/Berlin:20210626T203000
DTEND;TZID=Europe/Berlin:20210626T223000
DTSTAMP:20260425T011739
CREATED:20210415T124148Z
LAST-MODIFIED:20210723T082557Z
UID:6155-1624739400-1624746600@alt2.klangforum.at
SUMMARY:Holland Festival
DESCRIPTION:20.30 Uhr \n\n\n\n\nPierrot Lunaire in an exciting new stage setting\n\n\n\nA sad clown. With his pale face and tear on his cheek\, the Pierrot character from the eighteenth century Italian commedia dell’arte was the counterpart to the cheerful clown. He has been a timeless source of inspiration for artists ever since. The choreographer Marlene Monteiro Freitas is known for her musical\, whimsical and imaginative work. For her first adaptation of an existing piece of musical theatre\, she chose Arnold Schönberg’s composition Pierrot Lunaire from 1912 about the moonstruck clown. Pierrot stumbles through a kaleidoscopic sonic landscape that holds the middle ground between speech and singing\, intimacy and expressivity\, and comedy and tragedy. Freitas adds modern elements to the famous\, exuberant composition and turns it into an entirely unique visual adventure performed by Klangforum Wien with the singer Sofia Jernberg. Programm:Arnold Schönberg   — Pierrot lunaire op. 21 \n\n\n\nKlangforum WienSofia Jernberg\, Stimme \n\n\n\nMarlene Monteiro Freitas\, Regie \n\n\n\nDirigent: Michael Zlabinger \n\n\n\nText: Holland FestivalFoto: José Albergaria & MMF \n\n\n\n\n\n\n\n	\n		\n		FacebookTwitterLinkedInWhatsAppVkE-Mail
URL:https://alt2.klangforum.at/kalender/holland-festival-2/
LOCATION:Internationaal Theater Amsterdam\, Leidseplein 26\, Amsterdam\, 1017 PT\, Niederlande
CATEGORIES:Festival
ATTACH;FMTTYPE=image/x-citrix-jpeg:https://alt2.klangforum.at/wp-content/uploads/2021/05/Pierrot_Lunaire_c_Jose-Albergaria-MMF.jpg
END:VEVENT
END:VCALENDAR