BEGIN:VCALENDAR
VERSION:2.0
PRODID:-//Klangforum Wien - ECPv5.10.0//NONSGML v1.0//EN
CALSCALE:GREGORIAN
METHOD:PUBLISH
X-WR-CALNAME:Klangforum Wien
X-ORIGINAL-URL:https://alt2.klangforum.at
X-WR-CALDESC:Veranstaltungen für Klangforum Wien
BEGIN:VTIMEZONE
TZID:Europe/Berlin
BEGIN:DAYLIGHT
TZOFFSETFROM:+0100
TZOFFSETTO:+0200
TZNAME:CEST
DTSTART:20210328T010000
END:DAYLIGHT
BEGIN:STANDARD
TZOFFSETFROM:+0200
TZOFFSETTO:+0100
TZNAME:CET
DTSTART:20211031T010000
END:STANDARD
END:VTIMEZONE
BEGIN:VEVENT
DTSTART;TZID=Europe/Berlin:20210719T180000
DTEND;TZID=Europe/Berlin:20210719T223000
DTSTAMP:20260424T160437
CREATED:20210415T052048Z
LAST-MODIFIED:20210720T092024Z
UID:5800-1626717600-1626733800@alt2.klangforum.at
SUMMARY:Gustav Mahler Musikwochen Toblach
DESCRIPTION:18.00 Uhr \n\n\n\nGustav Mahler Musikwochen Toblach \nPaul Hindemith — Kammermusik op. 24 Nr. 1 mit Finale 1921Arnold Schönberg— Fünf Orchesterstücke op. 16 (Kammerorchesterfassung A. Schönberg)Simon Öggl— „Reibung“ (Uraufführung)Hannes Kerschbaumer— Streichquartett abbozzo IVFerruccio Busoni/Erwin Stein— Berceuse élégiaque op. 42 für 9 Instrumente\, gesetzt von Erwin SteinGustav Mahler— „Der Abschied“ aus „Das Lied von der Erde“ (Bearb. Reinbert de Leeuw) \nKlangforum WienChristina Daletska\, AltDirigent: Emilio Pomàrico \nIn Zusammenarbeit mit dem Südtiroler Künstlerbund.  \nDas Klangforum Wien dankt der Südtiroler Landesregierung für die Unterstützung des erweiterten Bundesländerzyklus. \n \n  \n \n\n\n  \n	\n		\n		FacebookTwitterLinkedInWhatsAppVkE-Mail
URL:https://alt2.klangforum.at/kalender/gustav-mahler-musikwochen-toblach/
CATEGORIES:Festival
ATTACH;FMTTYPE=image/x-citrix-jpeg:https://alt2.klangforum.at/wp-content/uploads/2021/05/christina-Daletska.jpg
END:VEVENT
END:VCALENDAR