BEGIN:VCALENDAR
VERSION:2.0
PRODID:-//Klangforum Wien - ECPv5.10.0//NONSGML v1.0//EN
CALSCALE:GREGORIAN
METHOD:PUBLISH
X-WR-CALNAME:Klangforum Wien
X-ORIGINAL-URL:https://alt2.klangforum.at
X-WR-CALDESC:Veranstaltungen für Klangforum Wien
BEGIN:VTIMEZONE
TZID:Europe/Berlin
BEGIN:DAYLIGHT
TZOFFSETFROM:+0100
TZOFFSETTO:+0200
TZNAME:CEST
DTSTART:20220327T010000
END:DAYLIGHT
BEGIN:STANDARD
TZOFFSETFROM:+0200
TZOFFSETTO:+0100
TZNAME:CET
DTSTART:20221030T010000
END:STANDARD
END:VTIMEZONE
BEGIN:VEVENT
DTSTART;TZID=Europe/Berlin:20220519T203000
DTEND;TZID=Europe/Berlin:20220519T220000
DTSTAMP:20260422T120857
CREATED:20220513T084501Z
LAST-MODIFIED:20220513T084628Z
UID:11520-1652992200-1652997600@alt2.klangforum.at
SUMMARY:Friede auf Erden – Wiener Festwochen
DESCRIPTION:Friede auf Erden – Wiener Festwochen \n   Mai 19\,\n20.30 - \n22.00 \n Jugendstiltheater am Steinhof\, Wien\, Österreich \n\n„Du sollst dir kein Bild machen. Denn ein Bild schränkt ein\, begrenzt\, fasst\, was unbegrenzt und unvorstellbar bleiben soll“\, heißt es in einem Chorstück von Arnold Schönberg. Im Auftrag der Wiener Festwochen setzt die bildende Künstlerin Ulla von Brandenburg gemein sam mit Schauspieler*innen\, dem Arnold Schoenberg Chor und Musiker*innen des Klangforum Wien sieben Stücke für Gesang des Ausnahmekomponisten im Jugendstiltheater am Steinhof in Szene. Eine synästhetische Reise durch Architektur\, Farben und Stimmungen. Ein Chor – viele Stimmen\, ein Körper – lässt die Klänge plastisch werden\, die Musik stofflich. Kulturgeschichtlich versiert\, dabei spielerisch dem Momenthaften verpflichtet\, initiiert Ulla von Brandenburg im Zusammenkommen vieler verschiedener Stimmen ein Gesamtkunstwerk. Die Ahnung utopischer Formen von Gemeinschaft klingt an. Denn: „Kunst ist nicht\, bloße Schönheit zu produzieren\, sondern Fragen aufzuwerfen\, Disharmonien und Komplexität zu verschärfen.“ \nDie Produktion wird ebenfalls am 15. Mai\, 17. Mai und 18. Mai 2022 aufgeführt. \nText: Wiener Festwochen\nBild: Ulla von Brandenburg \n\n\n\n\n\n\nZu den TicketsZum VeranstalterArnold Schönberg\n– Das Buch der hängenden Gärten\, op. 15\n– Drei Volksliedsätze\, op. 49\n– Drei Satiren\, op. 28\n– Dreimal tausend Jahre\, op. 50A\n– Vier Stücke\, op. 27\n– Psalm 130\, op. 50B\n– Friede auf Erden\, op. 13 \nUlla von Brandenburg\, künstlerische Leitung\nArnold von Schoenberg Chor\nKlangforum Wien\, Ensemble \nErwin Ortner \nArnold Schönberg
URL:https://alt2.klangforum.at/kalender/friede-auf-erden-wiener-festwochen-2/
LOCATION:Jugendstiltheater am Steinhof\, Baumgartner Höhe 1\, Wien\, 1140\, Österreich
CATEGORIES:Festival
ATTACH;FMTTYPE=image/x-citrix-jpeg:https://alt2.klangforum.at/wp-content/uploads/2022/04/Friede-auf-Erden_Ulla-von-Brandenburg_Croquis_sRGB.jpg
END:VEVENT
END:VCALENDAR