BEGIN:VCALENDAR
VERSION:2.0
PRODID:-//Klangforum Wien - ECPv5.10.0//NONSGML v1.0//EN
CALSCALE:GREGORIAN
METHOD:PUBLISH
X-WR-CALNAME:Klangforum Wien
X-ORIGINAL-URL:https://alt2.klangforum.at
X-WR-CALDESC:Veranstaltungen für Klangforum Wien
BEGIN:VTIMEZONE
TZID:Europe/Berlin
BEGIN:DAYLIGHT
TZOFFSETFROM:+0100
TZOFFSETTO:+0200
TZNAME:CEST
DTSTART:20230326T010000
END:DAYLIGHT
BEGIN:STANDARD
TZOFFSETFROM:+0200
TZOFFSETTO:+0100
TZNAME:CET
DTSTART:20231029T010000
END:STANDARD
END:VTIMEZONE
BEGIN:VEVENT
DTSTART;TZID=Europe/Berlin:20230313T203000
DTEND;TZID=Europe/Berlin:20230313T220000
DTSTAMP:20260424T155739
CREATED:20220324T112715Z
LAST-MODIFIED:20230112T102540Z
UID:10471-1678739400-1678744800@alt2.klangforum.at
SUMMARY:Programmänderung: Geschöpftes Licht
DESCRIPTION:Programmänderung: Geschöpftes Licht \n   März 13\,\n20.30 - \n22.00 \n Wiener Konzerthaus\, Mozart-Saal\, Wien\, Österreich \nEmilio Pomàrico\, seit vielen Jahren ein treuer wie prägender Weggefährte und Dirigent des Klangforum Wien\, hat ein neues Werk komponiert. Es handelt sich dabei um ein Konzert mit Einleitung\, Metamorphosen und Coda für die 24 Solist:innen des Klangforum Wien – maßgeschneidert auf den Ensembleleib geschrieben und hoch virtuos. Das Vorhaben der Intendanz\, dieses herausfordernde Werk im Kontext eines hoch verdichteten Arbeitskalenders adäquat und kompromisslos zu erarbeiten\, war zu ambitioniert; daher hat man gemeinsam mit dem Komponisten und Dirigenten Pomàrico beschlossen\, das Programm des fünften Zykluskonzertes auf die nächste Saison zu verschieben\, um den Qualitätsansprüchen des Publikums als auch des Ensembles zweifelsfrei Genüge leisten zu können. \nAnstatt dessen wird am 13.03.2023 gewissermaßen eine transatlantische Postkarte zu hören sein: mit THE FABRICATION OF LIGHT von Chaya Czernowin präsentiert das Klangforum Wien gemeinsam mit dem Dirigenten Johannes Kalitzke das Kernstück aus dem Debutkonzert an der Harvard University in Cambridge (7. Februar 2023). \nDas Konzert aus unserer Zyklusreihe BRUCH.PUNKT findet zu zwei Beginnzeiten statt: 18.00 Uhr + 20.30 Uhr. \nZwischen den Konzerten — FERMATE\nIn unserem neuen Gesprächsformat befragen Persönlichkeiten aus verschiedenen Disziplinen gemeinsam mit Künstler*innen und Musiker*innen das eben Gehörte. \nZu den TicketsZum VeranstalterJohannes Kalitzke \nChaya Czernowin
URL:https://alt2.klangforum.at/kalender/fragil/
LOCATION:Wiener Konzerthaus\, Mozart-Saal\, Lothringerstraße 20\, Wien\, 1030\, Österreich
CATEGORIES:Bruch.Punkt Zyklus 2022/23,Konzertzyklus
ATTACH;FMTTYPE=image/x-citrix-jpeg:https://alt2.klangforum.at/wp-content/uploads/2022/10/Sujet-Bruch.Punkt_KFPB.jpg
END:VEVENT
END:VCALENDAR