BEGIN:VCALENDAR
VERSION:2.0
PRODID:-//Klangforum Wien - ECPv5.10.0//NONSGML v1.0//EN
CALSCALE:GREGORIAN
METHOD:PUBLISH
X-WR-CALNAME:Klangforum Wien
X-ORIGINAL-URL:https://alt2.klangforum.at
X-WR-CALDESC:Veranstaltungen für Klangforum Wien
BEGIN:VTIMEZONE
TZID:Europe/Berlin
BEGIN:DAYLIGHT
TZOFFSETFROM:+0100
TZOFFSETTO:+0200
TZNAME:CEST
DTSTART:20210328T010000
END:DAYLIGHT
BEGIN:STANDARD
TZOFFSETFROM:+0200
TZOFFSETTO:+0100
TZNAME:CET
DTSTART:20211031T010000
END:STANDARD
END:VTIMEZONE
BEGIN:VEVENT
DTSTART;TZID=Europe/Berlin:20210824T140000
DTEND;TZID=Europe/Berlin:20210824T160000
DTSTAMP:20260424T175043
CREATED:20210610T112116Z
LAST-MODIFIED:20210818T111048Z
UID:6228-1629813600-1629820800@alt2.klangforum.at
SUMMARY:Forum Alpbach
DESCRIPTION:  \n\n\n\nOpening of the European Forum Alpbach \nVincent Pongracz— Hy Cotyl\, UA \nDirigent: Gábor Káli \n  \nDas Klangforum Wien dankt der Tiroler Landesregierung für die Unterstützung des Bundesländerzyklus. \n \n\n\n  \n  \n  \n  \n  \n	\n		\n		FacebookTwitterLinkedInWhatsAppVkE-Mail
URL:https://alt2.klangforum.at/kalender/forum-alpbach/
LOCATION:Congress-Centrum Alpbach\, Alpbach\, 6236\, Österreich
CATEGORIES:Festival
ATTACH;FMTTYPE=image/x-citrix-jpeg:https://alt2.klangforum.at/wp-content/uploads/2021/06/900x600-ForumAlpbach.jpg
END:VEVENT
END:VCALENDAR