BEGIN:VCALENDAR
VERSION:2.0
PRODID:-//Klangforum Wien - ECPv5.10.0//NONSGML v1.0//EN
CALSCALE:GREGORIAN
METHOD:PUBLISH
X-WR-CALNAME:Klangforum Wien
X-ORIGINAL-URL:https://alt2.klangforum.at
X-WR-CALDESC:Veranstaltungen für Klangforum Wien
BEGIN:VTIMEZONE
TZID:Europe/Berlin
BEGIN:DAYLIGHT
TZOFFSETFROM:+0100
TZOFFSETTO:+0200
TZNAME:CEST
DTSTART:20230326T010000
END:DAYLIGHT
BEGIN:STANDARD
TZOFFSETFROM:+0200
TZOFFSETTO:+0100
TZNAME:CET
DTSTART:20231029T010000
END:STANDARD
END:VTIMEZONE
BEGIN:VEVENT
DTSTART;TZID=Europe/Berlin:20230411T203000
DTEND;TZID=Europe/Berlin:20230411T220000
DTSTAMP:20260424T155941
CREATED:20220324T112414Z
LAST-MODIFIED:20230217T142628Z
UID:10485-1681245000-1681250400@alt2.klangforum.at
SUMMARY:Fluchtpunkt
DESCRIPTION:Fluchtpunkt \n   April 11\,\n20.30 - \n22.00 \n Wiener Konzerthaus\, Mozart-Saal\, Wien\, Österreich \nVor 80 Jahren wurde das jüdische Ghetto in Warschau geschleift. Flucht war vielen nicht möglich. Die Musik musste schweigen. Bernhard Lang evoziert einen Klang der Verstummung. \nDas Konzert aus unserer Zyklusreihe BRUCH.PUNKT findet zu zwei Beginnzeiten statt: 18.00 Uhr + 20.30 Uhr. \nZwischen den Konzerten — FERMATE\nIn unserem neuen Gesprächsformat befragen Persönlichkeiten aus verschiedenen Disziplinen gemeinsam mit Künstler*innen und Musiker*innen das eben Gehörte. \nZu den TicketsZum VeranstalterPeter Ruzicka\n– STILL. Memorial für Posaune und Kammerensemble\nGalina Ustvolskaya\n– Komposition Nr.1 „Dona nobis pacem”\nBernhard Lang\n– A Song for Rachela (UA) * \nSarah Maria Sun\, Stimme\nMikael Rudolfsson\, Posaune \nLorenz C. Aichner \nPeter Ruzicka | Galina Ustvolskaya | Bernhard Lang \n* UA Bernhard Lang A Song for Rachela mit freundlicher Unterstützung von:
URL:https://alt2.klangforum.at/kalender/fluchtpunkt/
LOCATION:Wiener Konzerthaus\, Mozart-Saal\, Lothringerstraße 20\, Wien\, 1030\, Österreich
CATEGORIES:Bruch.Punkt Zyklus 2022/23,Konzertzyklus
ATTACH;FMTTYPE=image/x-citrix-jpeg:https://alt2.klangforum.at/wp-content/uploads/2022/03/KF-Kalender1070x710-6-1.jpg
END:VEVENT
END:VCALENDAR