BEGIN:VCALENDAR
VERSION:2.0
PRODID:-//Klangforum Wien - ECPv5.10.0//NONSGML v1.0//EN
CALSCALE:GREGORIAN
METHOD:PUBLISH
X-WR-CALNAME:Klangforum Wien
X-ORIGINAL-URL:https://alt2.klangforum.at
X-WR-CALDESC:Veranstaltungen für Klangforum Wien
BEGIN:VTIMEZONE
TZID:Europe/Berlin
BEGIN:DAYLIGHT
TZOFFSETFROM:+0100
TZOFFSETTO:+0200
TZNAME:CEST
DTSTART:20210328T010000
END:DAYLIGHT
BEGIN:STANDARD
TZOFFSETFROM:+0200
TZOFFSETTO:+0100
TZNAME:CET
DTSTART:20211031T010000
END:STANDARD
END:VTIMEZONE
BEGIN:VEVENT
DTSTART;TZID=Europe/Berlin:20210418T190000
DTEND;TZID=Europe/Berlin:20210418T193000
DTSTAMP:20260425T011931
CREATED:20210209T142626Z
LAST-MODIFIED:20210811T091008Z
UID:4750-1618772400-1618774200@alt2.klangforum.at
SUMMARY:The Festival Of Premieres
DESCRIPTION:  \n\n  \n\n\n\nProgramm:Cezary Duchnowski— neues Werk\, UAAureliano Cattaneo— Deserti per ensembleAgata Zubel— 3×3 for 9 instrumentsKlangforum WienTitus Engel\, Dirigent \n  \n\n\n  \n\n  \n\n  \n  \n  \n  \n	\n		\n		FacebookTwitterLinkedInWhatsAppVkE-Mail
URL:https://alt2.klangforum.at/kalender/festival-of-premieres-2021/
LOCATION:NOSPR Concert Hall\, plac Wojciecha Kilara 1\, Katowice\, 40-202\, Polen
CATEGORIES:Konzert
ATTACH;FMTTYPE=image/x-png:https://alt2.klangforum.at/wp-content/uploads/2021/02/Agata-Zubel_Lukasz-Rajchert.png
END:VEVENT
END:VCALENDAR