BEGIN:VCALENDAR
VERSION:2.0
PRODID:-//Klangforum Wien - ECPv5.10.0//NONSGML v1.0//EN
CALSCALE:GREGORIAN
METHOD:PUBLISH
X-WR-CALNAME:Klangforum Wien
X-ORIGINAL-URL:https://alt2.klangforum.at
X-WR-CALDESC:Veranstaltungen für Klangforum Wien
BEGIN:VTIMEZONE
TZID:Europe/Berlin
BEGIN:DAYLIGHT
TZOFFSETFROM:+0100
TZOFFSETTO:+0200
TZNAME:CEST
DTSTART:20220327T010000
END:DAYLIGHT
BEGIN:STANDARD
TZOFFSETFROM:+0200
TZOFFSETTO:+0100
TZNAME:CET
DTSTART:20221030T010000
END:STANDARD
END:VTIMEZONE
BEGIN:VEVENT
DTSTART;TZID=Europe/Berlin:20221127T150000
DTEND;TZID=Europe/Berlin:20221127T163000
DTSTAMP:20260425T025535
CREATED:20220615T133451Z
LAST-MODIFIED:20221108T095851Z
UID:12038-1669561200-1669566600@alt2.klangforum.at
SUMMARY:Festival d’Automne à Paris – Pierrot Lunaire
DESCRIPTION:Festival d’Automne à Paris – Pierrot Lunaire \n   November 27\,\n15.00 - \n16.30 \n La Villette – Grande Halle\, Paris\, Frankreich \nArnold Schönbergs Pierrot Lunaire\, ein musikalisches und literarisches Werk\, ist eine fruchtbare musikalische Spielwiese für Marlene Monteiro Freitas. Gemeinsam mit dem musikalischen Leiter Ingo Metzmacher und der Sängerin Sofia Jernberg wirft die Regisseurin und Choreografin ein neues Licht auf Pierrot. \nBereits zum zweiten Mal wagt sich Marlene Monteiro Freitas in das Universum Arnold Schönbergs\, wobei Pierrot lunaire\, ein Auftragswerk der Wiener Festwochen\, neue Herausforderungen und Möglichkeiten mit sich bringt. Obwohl für ihn Musik und Klang formlose „Massen“ sind\, mit denen man bei der Erschaffung eines Stücks leicht oder gewaltsam umgehen kann\, gibt Pierrot Lunaire jedem Schöpfer eine spezifische Anleitung\, die sich auf Zweideutigkeiten\, Pausen\, Spielweisen oder Schauspielerei bezieht. Dies gilt auch für das Bühnenwerk\, das auf den Gedichtzyklus von Albert Giraud zurückgeht. Schönbergs „melodramatisches“ Meisterwerk – so seine Worte – besteht aus einundzwanzig Liedern und einundzwanzig Stücken. Mehr als ein Jahrhundert nach seiner Entstehung kollidiert es mit Monteiro Freitas‘ ständig erfindungsreichem Universum. Der musikalische Leiter Ingo Metzmacher und die experimentelle Sängerin Sofia Jernberg begeben sich mit ihr auf diese sich ständig verändernde Reise\, in einer künstlerischen Begleitung\, die Schönbergs Modernität zum Vorschein bringt. \nFoto: Nurith Wagner-Strauss \nZu den TicketsZum VeranstalterArnold Schönberg\n– Pierrot lunaire op. 21 \nSofia Jernberg\, Stimme\nMarlene Monteiro Freitas\, Regie \nIngo Metzmacher \nArnold Schönberg
URL:https://alt2.klangforum.at/kalender/festival-dautomne-a-paris-pierrot-lunaire-3/
LOCATION:La Villette – Grande Halle\, 211\, avenue Jean-Jaurès 75019\, Paris\, Frankreich
CATEGORIES:Festival
ATTACH;FMTTYPE=image/x-citrix-jpeg:https://alt2.klangforum.at/wp-content/uploads/2022/06/medias_banner_image_865f79f970d0adc660b4a6501afca6e9.jpg
END:VEVENT
END:VCALENDAR