BEGIN:VCALENDAR
VERSION:2.0
PRODID:-//Klangforum Wien - ECPv5.10.0//NONSGML v1.0//EN
CALSCALE:GREGORIAN
METHOD:PUBLISH
X-WR-CALNAME:Klangforum Wien
X-ORIGINAL-URL:https://alt2.klangforum.at
X-WR-CALDESC:Veranstaltungen für Klangforum Wien
BEGIN:VTIMEZONE
TZID:Europe/Berlin
BEGIN:DAYLIGHT
TZOFFSETFROM:+0100
TZOFFSETTO:+0200
TZNAME:CEST
DTSTART:20230326T010000
END:DAYLIGHT
BEGIN:STANDARD
TZOFFSETFROM:+0200
TZOFFSETTO:+0100
TZNAME:CET
DTSTART:20231029T010000
END:STANDARD
END:VTIMEZONE
BEGIN:VEVENT
DTSTART;TZID=Europe/Berlin:20230416T190000
DTEND;TZID=Europe/Berlin:20230416T203000
DTSTAMP:20260424T172920
CREATED:20221214T102515Z
LAST-MODIFIED:20230207T111050Z
UID:12864-1681671600-1681677000@alt2.klangforum.at
SUMMARY:Eröffnungskonzert Zagreb Biennale
DESCRIPTION:Eröffnungskonzert Zagreb Biennale \n   April 16\,\n19.00 - \n20.30 \n Zagreb Youth Theatre\, Zagreb\, Kroatien \nZu den TicketsZum VeranstalterChaya Czernowin \nSeltene Erde: alchimia communicationis (UA) \nMirela Ivičević \nCASE WHITE (2018) \nSara Glojnarić   \nPure bliss (Erste Bank Kompositionspreis 2022) \nJohannes Kalitzke  \nChaya Czernowin | Mirela Ivicevic | Sara Glojnaric
URL:https://alt2.klangforum.at/kalender/eroeffnungskonzert-zagreb-biennale/
LOCATION:Zagreb Youth Theatre\, Zagreb\, Kroatien
CATEGORIES:Konzert
ATTACH;FMTTYPE=image/x-citrix-jpeg:https://alt2.klangforum.at/wp-content/uploads/2022/12/313434711_557024086428185_4806836655525913660_n.jpg
END:VEVENT
END:VCALENDAR