BEGIN:VCALENDAR
VERSION:2.0
PRODID:-//Klangforum Wien - ECPv5.10.0//NONSGML v1.0//EN
CALSCALE:GREGORIAN
METHOD:PUBLISH
X-WR-CALNAME:Klangforum Wien
X-ORIGINAL-URL:https://alt2.klangforum.at
X-WR-CALDESC:Veranstaltungen für Klangforum Wien
BEGIN:VTIMEZONE
TZID:Europe/Berlin
BEGIN:DAYLIGHT
TZOFFSETFROM:+0100
TZOFFSETTO:+0200
TZNAME:CEST
DTSTART:20220327T010000
END:DAYLIGHT
BEGIN:STANDARD
TZOFFSETFROM:+0200
TZOFFSETTO:+0100
TZNAME:CET
DTSTART:20221030T010000
END:STANDARD
END:VTIMEZONE
BEGIN:VEVENT
DTSTART;TZID=Europe/Berlin:20221102T183000
DTEND;TZID=Europe/Berlin:20221102T183000
DTSTAMP:20260424T160422
CREATED:20220608T120512Z
LAST-MODIFIED:20221031T143307Z
UID:11769-1667413800-1667413800@alt2.klangforum.at
SUMMARY:Einführung AMOPERA
DESCRIPTION:Einführung AMOPERA \n   November 2\,\n18.30 - \n18.30 \n Haus der Musik\, Innsbruck\, Österreich \nIm Haus der Musik Innsbruck laden das Klangforum Wien und die Needcompany am 2. November 2022 zur Einführungsveranstaltung zu ihrer ersten Meta-Oper ein\, die am 5. November 2022 im Festspielhaus von Erl in Tirol uraufgeführt wird.  In AMOPERA erwartet Sie ein Stück Operngeschichte der letzten 110 Jahre – geschöpft aus dem Fundus von über 90 Opern. Mit AMOPERA werden einzigartige Erzählungen montiert\, die Abgründe von LIEBE und deren Ekstasen im Spiegel einer Geschichte des Neuen in der Musik erzählt. \nZu den TicketsZum VeranstalterTBC \nIn Kooperation mit \n          \n  \nMit freundlicher Unterstützung von \n \n                        \nDie flämischen Behörden können nicht\nfür den Inhalt dieser Veröffentlichung\nverantwortlich gemacht werden.
URL:https://alt2.klangforum.at/kalender/einfuehrung-amopera/
LOCATION:Haus der Musik\, Innsbruck\, Tirol\, Österreich
CATEGORIES:Einführungsveranstaltung
ATTACH;FMTTYPE=image/x-citrix-jpeg:https://alt2.klangforum.at/wp-content/uploads/2022/04/Klangforum-Amopera-Kalender1070x710-1.jpeg
END:VEVENT
END:VCALENDAR