BEGIN:VCALENDAR
VERSION:2.0
PRODID:-//Klangforum Wien - ECPv5.10.0//NONSGML v1.0//EN
CALSCALE:GREGORIAN
METHOD:PUBLISH
X-WR-CALNAME:Klangforum Wien
X-ORIGINAL-URL:https://alt2.klangforum.at
X-WR-CALDESC:Veranstaltungen für Klangforum Wien
BEGIN:VTIMEZONE
TZID:Europe/Berlin
BEGIN:DAYLIGHT
TZOFFSETFROM:+0100
TZOFFSETTO:+0200
TZNAME:CEST
DTSTART:20230326T010000
END:DAYLIGHT
BEGIN:STANDARD
TZOFFSETFROM:+0200
TZOFFSETTO:+0100
TZNAME:CET
DTSTART:20231029T010000
END:STANDARD
END:VTIMEZONE
BEGIN:VEVENT
DTSTART;TZID=Europe/Berlin:20230218T190000
DTEND;TZID=Europe/Berlin:20230218T210000
DTSTAMP:20260424T160418
CREATED:20221206T125809Z
LAST-MODIFIED:20221207T115402Z
UID:12785-1676746800-1676754000@alt2.klangforum.at
SUMMARY:Der goldene Drache
DESCRIPTION:Der goldene Drache \n   Februar 18\,\n19.00 - \n21.00 \n Kammeroper\, Wien\, Österreich \nWährend im Thai-China-Vietnam-Restaurant „Der goldene Drache“ Thai-Suppe Nr. 6 gelöffelt wird\, spielen sich hinten in der Küche Dramen ab. Ein Chinese ohne Aufenthaltsgenehmigung mit Zahnschmerzen\, seine verschollene Schwester\, zwei übermüdete Stewardessen\, ein frustrierter alter Mann aus dem zweiten Stock sowie die geizige Grille\, die die Ameise zur Prostitution zwingt: Peter Eötvös eröffnet in seiner 2014 uraufgeführten Kammeroper Der goldene Drache ein Panoptikum globaler Lebenswelten. Der erzählerische Trick der Oper\, die auf Roland Schimmelpfennigs 2009 am Burgtheater uraufgeführtem Schauspiel basiert: Zwei Sängerinnen und drei Sänger schlüpfen in alle 17 Rollen des Stückes. Männer spielen Frauen\, Asiaten spielen Europäer\, Alte spielen Junge und umgekehrt. Der ungarische Komponist feierte in Wien u. a. mit seinen Opern Drei Schwestern und Angels in America große Erfolge und zählt zu den meistgespielten Opernkomponisten der Gegenwart. \nZu den TicketsZum Veranstalter\n\nMusikalische Leitung | Walter Kobéra \n\n\n\n\nInszenierung | Jan Eßinger \nDramaturgie | Kai Weßler \n\n\n\n\nBühne | Sonja Füsti \n\n\n\n\nKostüm | Benita Roth \n\n\n\n\nLicht |Franz Tscheck \n\n\n\n\nLicht | Karl Wiedemann \n\n\n\n\nDie junge Frau | Camilla Saba Davies \n\n\n\n\nDie Frau über sechzig | Christa Ratzenböck \n\n\n\n\nDer junge Mann | Felix Heuser \n\n\n\n\nDer Mann über sechzig | Karl-Michael Ebner \n\n\n\n\nDer Mann | Peter Schöne \n\n\nWalter Kobéra \nPeter Eötvös
URL:https://alt2.klangforum.at/kalender/der-goldene-drache-2/
LOCATION:Kammeroper\, Wien\, Österreich
CATEGORIES:Musiktheater
ATTACH;FMTTYPE=image/x-citrix-jpeg:https://alt2.klangforum.at/wp-content/uploads/2022/12/imager.jpg
END:VEVENT
END:VCALENDAR