BEGIN:VCALENDAR
VERSION:2.0
PRODID:-//Klangforum Wien - ECPv5.10.0//NONSGML v1.0//EN
CALSCALE:GREGORIAN
METHOD:PUBLISH
X-WR-CALNAME:Klangforum Wien
X-ORIGINAL-URL:https://alt2.klangforum.at
X-WR-CALDESC:Veranstaltungen für Klangforum Wien
BEGIN:VTIMEZONE
TZID:Europe/Berlin
BEGIN:DAYLIGHT
TZOFFSETFROM:+0100
TZOFFSETTO:+0200
TZNAME:CEST
DTSTART:20220327T010000
END:DAYLIGHT
BEGIN:STANDARD
TZOFFSETFROM:+0200
TZOFFSETTO:+0100
TZNAME:CET
DTSTART:20221030T010000
END:STANDARD
END:VTIMEZONE
BEGIN:VEVENT
DTSTART;TZID=Europe/Berlin:20221020T200000
DTEND;TZID=Europe/Berlin:20221020T200000
DTSTAMP:20260424T215300
CREATED:20220615T143136Z
LAST-MODIFIED:20220615T144007Z
UID:12067-1666296000-1666296000@alt2.klangforum.at
SUMMARY:Das Lied von der Erde
DESCRIPTION:Das Lied von der Erde \n   Oktober 20\,\n20.00 - \n20.00 \n Opéra de Dijon\, l’auditorium\, Dijon\, Frankreich \nWillkommen in der Anthropo(s)cene! Philippe Quesne präsentiert uns seine Vision in einem der szenischen Panoramen\, für die er bekannt ist und die seinen internationalen Ruf begründet haben. Mahlers großer symphonischer Zyklus\, der hier vom Klangforum Wien unter der Leitung des in Dijon wohlbekannten Emilio Pomàrico aufgeführt wird\, inspirierte ihn zu einer bewegenden Meditation über die Zukunft unseres Planeten… Wenn es wahr ist\, dass die Erde singt\, wer hört ihr dann zu? Gustav Mahler wollte sie besser hören und zog sich 1908 in die Isolation zurück\, ohne Gesellschaft außer einer Anthologie klassischer chinesischer Gedichte. Die inneren und intimen Landschaften antworten und spiegeln sich in einer wunderschönen Partitur\, die die Träumerei von Philippe Quesne anregt: Der Gründer des Vivarium Studios interessiert sich seit jeher für die Interaktion zwischen Körper und Umwelt und erfindet für den Dialog zwischen Körper und Umwelt einzigartige Räume\, wahre Ökosysteme für Darsteller*innen\, die er heute auf der ganzen Welt präsentiert. Seine neue Kreation ist durch und durch von Mahlers Erhabenheit geprägt\, in einer Kammerversion von Reinbert de Leeuw\, die von einem der größten Orchester des zeitgenössischen Repertoires interpretiert wird. \nAuftrag und Produktion Wiener Festwochen\nIn Zusammenarbeit mit Vivarium Studio Koproduktion deSingel (Antwerpen)\nWiederaufnahme Opéra de Dijon in Zusammenarbeit mit dem Festival d’Automne in Paris.\nMit der Unterstützung von Nanterre-Amandiers\, Centre dramatique national \nZu den TicketsZum VeranstalterGustav Mahler / Reinbert de Leeuw\n– Das Lied von der Erde \nChristina Daletska\, Alt\nMaximilian Schmitt\, Tenor \nPhilippe Quesne\, Regie und Szenografie \nEmilio Pomàrico \nGustav Mahler | Reinbert de Leeuw
URL:https://alt2.klangforum.at/kalender/das-lied-von-der-erde/
LOCATION:Opéra de Dijon\, l’auditorium\, Dijon\, Frankreich
CATEGORIES:Konzert
ATTACH;FMTTYPE=image/x-citrix-jpeg:https://alt2.klangforum.at/wp-content/uploads/2022/06/phpThumb_generated_thumbnail.jpg
END:VEVENT
END:VCALENDAR