BEGIN:VCALENDAR
VERSION:2.0
PRODID:-//Klangforum Wien - ECPv5.10.0//NONSGML v1.0//EN
CALSCALE:GREGORIAN
METHOD:PUBLISH
X-WR-CALNAME:Klangforum Wien
X-ORIGINAL-URL:https://alt2.klangforum.at
X-WR-CALDESC:Veranstaltungen für Klangforum Wien
BEGIN:VTIMEZONE
TZID:Europe/Berlin
BEGIN:DAYLIGHT
TZOFFSETFROM:+0100
TZOFFSETTO:+0200
TZNAME:CEST
DTSTART:20220327T010000
END:DAYLIGHT
BEGIN:STANDARD
TZOFFSETFROM:+0200
TZOFFSETTO:+0100
TZNAME:CET
DTSTART:20221030T010000
END:STANDARD
END:VTIMEZONE
BEGIN:VEVENT
DTSTART;TZID=Europe/Berlin:20221212T203000
DTEND;TZID=Europe/Berlin:20221212T220000
DTSTAMP:20260424T160025
CREATED:20220324T114440Z
LAST-MODIFIED:20220617T123153Z
UID:10453-1670877000-1670882400@alt2.klangforum.at
SUMMARY:Coda Xenakis 100
DESCRIPTION:Coda Xenakis 100 \n   Dezember 12\,\n20.30 - \n22.00 \n Wiener Konzerthaus\, Mozart-Saal\, Wien\, Österreich \nIannis Xenakis\, war ein Klangarchitekt\, der um die Wichtigkeit massiv-archaischer Klanggewalt wusste. Sarah Nemtsov nützt Verdichtung\, um Krieg und Terror einen Klang abzutrotzen. Michael Pelzel ist schlicht überwältigt von der Urgewalt xenakisscher Planeten. \nDas Konzert aus unserer Zyklusreihe BRUCH.PUNKT findet zu zwei Beginnzeiten statt: 18.00 Uhr + 20.30 Uhr. \nZwischen den Konzerten — FERMATE\nIn unserem neuen Gesprächsformat befragen Persönlichkeiten aus verschiedenen Disziplinen gemeinsam mit Künstler*innen und Musiker*innen das eben Gehörte. \nZu den TicketsZum VeranstalterIannis Xenakis\n– Okho for 3 percussionists\nSarah Nemtsov\n– SACRIFICE – Suite für Ensemble UA\nMichael Pelzel\n– „Pavlopetri“ – in memoriam Iannis Xenakis \nAlex Lipowski\, Schlagwerk\nLukas Schiske\, Schlagwerk\nBjörn Wilker\, Schlagwerk \nClaire Levacher \nIannis Xenakis | Sarah Nemtsov | Michael Pelzel
URL:https://alt2.klangforum.at/kalender/coda-xenakis-100/
LOCATION:Wiener Konzerthaus\, Mozart-Saal\, Lothringerstraße 20\, Wien\, 1030\, Österreich
CATEGORIES:Bruch.Punkt Zyklus 2022/23,Konzertzyklus
ATTACH;FMTTYPE=image/x-citrix-jpeg:https://alt2.klangforum.at/wp-content/uploads/2022/03/KF-Kalender1070x710-2-1.jpg
END:VEVENT
END:VCALENDAR