BEGIN:VCALENDAR
VERSION:2.0
PRODID:-//Klangforum Wien - ECPv5.10.0//NONSGML v1.0//EN
CALSCALE:GREGORIAN
METHOD:PUBLISH
X-WR-CALNAME:Klangforum Wien
X-ORIGINAL-URL:https://alt2.klangforum.at
X-WR-CALDESC:Veranstaltungen für Klangforum Wien
BEGIN:VTIMEZONE
TZID:Europe/Berlin
BEGIN:DAYLIGHT
TZOFFSETFROM:+0100
TZOFFSETTO:+0200
TZNAME:CEST
DTSTART:20210328T010000
END:DAYLIGHT
BEGIN:STANDARD
TZOFFSETFROM:+0200
TZOFFSETTO:+0100
TZNAME:CET
DTSTART:20211031T010000
END:STANDARD
END:VTIMEZONE
BEGIN:VEVENT
DTSTART;TZID=Europe/Berlin:20210612T190000
DTEND;TZID=Europe/Berlin:20210612T220000
DTSTAMP:20260425T010822
CREATED:20210520T135150Z
LAST-MODIFIED:20210811T090912Z
UID:6038-1623524400-1623535200@alt2.klangforum.at
SUMMARY:Bayerische Staatsoper
DESCRIPTION:19.00 Uhr \n\n\n\n\nSINGULARITYProgramm:Miroslav Srnka    — SingularityKlangforum WienEliza Boom\, Sopran AnalogJuliana Zara\, Sopran DigitalDaria Proszek\, Mezzo AnalogYajie Zhang\, Mezzo DigitalGeorge Vîrban\, Tenor AnalogAndres Agudelo\, Tenor DigitalAndrew Hamilton\, Bariton AnalogTheodore Platt\, Bariton DigitalDirigent: Patrick Hahn \n\n\n\n\n\n\n\n	\n		\n		FacebookTwitterLinkedInWhatsAppVkE-Mail
URL:https://alt2.klangforum.at/kalender/bayerische-staatsoper/
LOCATION:Cuvilliéstheater\, Residenzstraße 1\, München\, 80333\, Deutschland
CATEGORIES:Konzert
ATTACH;FMTTYPE=image/x-png:https://alt2.klangforum.at/wp-content/uploads/2021/03/Miroslav-Srnka_Foto_Vojtech-Havlik.png
END:VEVENT
END:VCALENDAR