BEGIN:VCALENDAR
VERSION:2.0
PRODID:-//Klangforum Wien - ECPv5.10.0//NONSGML v1.0//EN
CALSCALE:GREGORIAN
METHOD:PUBLISH
X-WR-CALNAME:Klangforum Wien
X-ORIGINAL-URL:https://alt2.klangforum.at
X-WR-CALDESC:Veranstaltungen für Klangforum Wien
BEGIN:VTIMEZONE
TZID:Europe/Berlin
BEGIN:DAYLIGHT
TZOFFSETFROM:+0100
TZOFFSETTO:+0200
TZNAME:CEST
DTSTART:20210328T010000
END:DAYLIGHT
BEGIN:STANDARD
TZOFFSETFROM:+0200
TZOFFSETTO:+0100
TZNAME:CET
DTSTART:20211031T010000
END:STANDARD
END:VTIMEZONE
BEGIN:VEVENT
DTSTART;TZID=Europe/Berlin:20210607T190000
DTEND;TZID=Europe/Berlin:20210607T210000
DTSTAMP:20260424T173411
CREATED:20210520T125807Z
LAST-MODIFIED:20210520T131744Z
UID:6022-1623092400-1623099600@alt2.klangforum.at
SUMMARY:Bayerische Staatsoper
DESCRIPTION:19.00 Uhr \n\n\n\n\nSINGULARITY \n\n\n\nProgramm:Miroslav Srnka— Singularity \n\n\n\nKlangforum WienEliza Boom\, Sopran AnalogJuliana Zara\, Sopran DigitalDaria Proszek\, Mezzo AnalogYajie Zhang\, Mezzo DigitalGeorge Vîrban\, Tenor AnalogAndres Agudelo\, Tenor DigitalAndrew Hamilton\, Bariton AnalogTheodore Platt\, Bariton DigitalDirigent: Patrick HahnOpernstudio der Bayerischen Staatsoper \n\n\n\n\n\n\n\n	\n		\n		FacebookTwitterLinkedInWhatsAppVkE-Mail
URL:https://alt2.klangforum.at/kalender/bayerische-staatsoper-2/
LOCATION:Cuvilliéstheater\, Residenzstraße 1\, München\, 80333\, Deutschland
ATTACH;FMTTYPE=image/x-png:https://alt2.klangforum.at/wp-content/uploads/2021/03/Miroslav-Srnka_Foto_Vojtech-Havlik.png
END:VEVENT
END:VCALENDAR