BEGIN:VCALENDAR
VERSION:2.0
PRODID:-//Klangforum Wien - ECPv5.10.0//NONSGML v1.0//EN
CALSCALE:GREGORIAN
METHOD:PUBLISH
X-WR-CALNAME:Klangforum Wien
X-ORIGINAL-URL:https://alt2.klangforum.at
X-WR-CALDESC:Veranstaltungen für Klangforum Wien
BEGIN:VTIMEZONE
TZID:Europe/Berlin
BEGIN:DAYLIGHT
TZOFFSETFROM:+0100
TZOFFSETTO:+0200
TZNAME:CEST
DTSTART:20210328T010000
END:DAYLIGHT
BEGIN:STANDARD
TZOFFSETFROM:+0200
TZOFFSETTO:+0100
TZNAME:CET
DTSTART:20211031T010000
END:STANDARD
END:VTIMEZONE
BEGIN:VEVENT
DTSTART;TZID=Europe/Berlin:20210427T180000
DTEND;TZID=Europe/Berlin:20210427T203000
DTSTAMP:20260424T190800
CREATED:20200925T121254Z
LAST-MODIFIED:20210413T093618Z
UID:1893-1619546400-1619555400@alt2.klangforum.at
SUMMARY:AURA Zyklus — Verlassen-Verwüstet
DESCRIPTION:  \nKonzert I 18.00 Uhr / Konzert II 20.30 Uhr \n  \n\n  \n\n\n\nIn der Einsamkeit verlassener Landschaften tritt die Verwüstung des eigenen Denkens hervor. \n\n\n  \n\n  \n\n  \n\n\n  \nProgramm: \n\n\n  \nChristian Winther Christensen— Neues Werk\, ÖEABeat Furrer— Konzert für Klarinette und Ensemble\, ÖEAMirela Ivičević— Neues Werk\, ÖEAAureliano Cattaneo— Deserti per ensemble\, ÖEA \nBernhard Zachhuber\, KlarinetteTitus Engel\, Dirigent \n\n\n  \n\n  \n  \n  \n  \n	\n		\n		FacebookTwitterLinkedInWhatsAppVkE-Mail
URL:https://alt2.klangforum.at/kalender/aura-zyklus-verlassen-verwuestet/
LOCATION:Wiener Konzerthaus\, Mozart-Saal\, Lothringerstraße 20\, Wien\, 1030\, Österreich
CATEGORIES:Konzertzyklus
ATTACH;FMTTYPE=image/jpeg:https://alt2.klangforum.at/wp-content/uploads/2020/09/Didi_Sattmann-2-scaled.jpg
END:VEVENT
END:VCALENDAR