BEGIN:VCALENDAR
VERSION:2.0
PRODID:-//Klangforum Wien - ECPv5.10.0//NONSGML v1.0//EN
CALSCALE:GREGORIAN
METHOD:PUBLISH
X-WR-CALNAME:Klangforum Wien
X-ORIGINAL-URL:https://alt2.klangforum.at
X-WR-CALDESC:Veranstaltungen für Klangforum Wien
BEGIN:VTIMEZONE
TZID:Europe/Berlin
BEGIN:DAYLIGHT
TZOFFSETFROM:+0100
TZOFFSETTO:+0200
TZNAME:CEST
DTSTART:20210328T010000
END:DAYLIGHT
BEGIN:STANDARD
TZOFFSETFROM:+0200
TZOFFSETTO:+0100
TZNAME:CET
DTSTART:20211031T010000
END:STANDARD
END:VTIMEZONE
BEGIN:VEVENT
DTSTART;TZID=Europe/Berlin:20210326T180000
DTEND;TZID=Europe/Berlin:20210326T203000
DTSTAMP:20260425T011737
CREATED:20200925T120307Z
LAST-MODIFIED:20210323T143050Z
UID:1886-1616781600-1616790600@alt2.klangforum.at
SUMMARY:AURA Zyklus — Morgenröte
DESCRIPTION:  \n\n\n\n\nKonzert I 18.00 Uhr / Konzert II 20.30 Uhr\n\n\n\n\n  \n\n  \n\n\n\nIm ersten Licht der Morgenröte ist die Hoffnung am größten\, den Ort und die Formel für ein neues Leben zu finden – ob nun im mediterranen Garten oder in den afrikanischen Wüsten. \n\n\n  \n\n  \n\n  \n\n\n  \nProgramm: \n\n\n  \nAlberto Posadas— Ga\, UAKontraforte soloEdgar Varèse— IntégralesJavier Quislant García— Entra la aurora en el jardin\, ÖEAFranck Bedrossian— Le lieu et la formule \nLorelei Dowling\, KontraforteBaldur Brönnimann\, Dirigent \n\n\n  \n\n\n  \nProgramm: \n\n\n  \nAlberto Posadas— Ga\, UAKontraforte soloEdgar Varèse— IntégralesJavier Quislant García— Entra la aurora en el jardin\, ÖEAFranck Bedrossian— Le lieu et la formule \nLorelei Dowling\, KontraforteBaldur Brönnimann\, Dirigent \n\n\n  \n\n  \n  \n  \n  \n	\n		\n		FacebookTwitterLinkedInWhatsAppVkE-Mail
URL:https://alt2.klangforum.at/kalender/aura-zyklus-morgenroete/
LOCATION:Wiener Konzerthaus\, Mozart-Saal\, Lothringerstraße 20\, Wien\, 1030\, Österreich
CATEGORIES:Konzertzyklus
ATTACH;FMTTYPE=image/jpeg:https://alt2.klangforum.at/wp-content/uploads/2020/09/Posadas-10_c-harald-Hofmann-scaled.jpg
END:VEVENT
END:VCALENDAR