BEGIN:VCALENDAR
VERSION:2.0
PRODID:-//Klangforum Wien - ECPv5.10.0//NONSGML v1.0//EN
CALSCALE:GREGORIAN
METHOD:PUBLISH
X-WR-CALNAME:Klangforum Wien
X-ORIGINAL-URL:https://alt2.klangforum.at
X-WR-CALDESC:Veranstaltungen für Klangforum Wien
BEGIN:VTIMEZONE
TZID:Europe/Berlin
BEGIN:DAYLIGHT
TZOFFSETFROM:+0100
TZOFFSETTO:+0200
TZNAME:CEST
DTSTART:20210328T010000
END:DAYLIGHT
BEGIN:STANDARD
TZOFFSETFROM:+0200
TZOFFSETTO:+0100
TZNAME:CET
DTSTART:20211031T010000
END:STANDARD
END:VTIMEZONE
BEGIN:VEVENT
DTSTART;TZID=Europe/Berlin:20210523T180000
DTEND;TZID=Europe/Berlin:20210523T203000
DTSTAMP:20260424T220802
CREATED:20210512T122946Z
LAST-MODIFIED:20210525T130405Z
UID:1904-1621792800-1621801800@alt2.klangforum.at
SUMMARY:AURA Zyklus — Einsames Ich
DESCRIPTION:Konzert I 18.00 Uhr / Konzert II 20.45 Uhr \n  \n\n\n\nHier fehlen Gewissheiten: extrem behutsam tastet die Doppel- trichtertrompete zerbrechliches Gelände ab und weiß um die unzähligen Spalten\, die auf das Bodenlose verweisen. \nGeorges Aperghis— Lopsided Sob UAAureliano Cattaneo— Deserti per ensembleRebecca Saunders— Nether ÖEA \nKrassimir Sterev\, AkkordeonDonatienne Michel-Dansac\, SopranDirigent: Bas Wiegers \n\n\n  \n  \n  \n	\n		\n		FacebookTwitterLinkedInWhatsAppVkE-Mail
URL:https://alt2.klangforum.at/kalender/aura-zyklus-einsames-ich/
LOCATION:Wiener Konzerthaus\, Mozart-Saal\, Lothringerstraße 20\, Wien\, 1030\, Österreich
CATEGORIES:Konzertzyklus
ATTACH;FMTTYPE=image/jpeg:https://alt2.klangforum.at/wp-content/uploads/2020/09/SAUNDERS_c_-Astrid-Ackermann-scaled.jpg
END:VEVENT
END:VCALENDAR