BEGIN:VCALENDAR
VERSION:2.0
PRODID:-//Klangforum Wien - ECPv5.10.0//NONSGML v1.0//EN
CALSCALE:GREGORIAN
METHOD:PUBLISH
X-WR-CALNAME:Klangforum Wien
X-ORIGINAL-URL:https://alt2.klangforum.at
X-WR-CALDESC:Veranstaltungen für Klangforum Wien
BEGIN:VTIMEZONE
TZID:Europe/Berlin
BEGIN:DAYLIGHT
TZOFFSETFROM:+0100
TZOFFSETTO:+0200
TZNAME:CEST
DTSTART:20210328T010000
END:DAYLIGHT
BEGIN:STANDARD
TZOFFSETFROM:+0200
TZOFFSETTO:+0100
TZNAME:CET
DTSTART:20211031T010000
END:STANDARD
END:VTIMEZONE
BEGIN:VEVENT
DTSTART;TZID=Europe/Berlin:20210702T180000
DTEND;TZID=Europe/Berlin:20210702T203000
DTSTAMP:20260424T160552
CREATED:20210516T070045Z
LAST-MODIFIED:20210713T102541Z
UID:4734-1625248800-1625257800@alt2.klangforum.at
SUMMARY:AURA Zyklus — Kreuzungen
DESCRIPTION:Konzert I 18.00 Uhr / Konzert II 20.30 Uhr \n\n\n\n\nAbzweigungen\, Umwege\, Irrwege — das Leben artikuliert sich ent- lang von Kreuzungen und bleibt in seiner Totalität unfassbar\, einmal abgesehen vom Echoraum\, in dem es widerhallt. \n\n\n\n\n\n\nProgramm: \n\n\n\n\n\nGeorges Aperghis    — Le cours de la vie (Der Lauf des Lebens) \n\n\n\nKlangforum WienNeue Vocalsolisten StuttgartEmilio Pomàrico\, Dirigent \n\n\n\n\n\n\n\n\n\n \n	\n		\n		FacebookTwitterLinkedInWhatsAppVkE-Mail
URL:https://alt2.klangforum.at/kalender/aura-zyklus-20-21-kreuzungen/
LOCATION:Wiener Konzerthaus\, Mozart-Saal\, Lothringerstraße 20\, Wien\, 1030\, Österreich
CATEGORIES:Konzertzyklus
ATTACH;FMTTYPE=image/jpeg:https://alt2.klangforum.at/wp-content/uploads/2020/09/Pomarico_Emilio_c_Astrid-Ackermann.jpg
END:VEVENT
END:VCALENDAR