BEGIN:VCALENDAR
VERSION:2.0
PRODID:-//Klangforum Wien - ECPv5.10.0//NONSGML v1.0//EN
CALSCALE:GREGORIAN
METHOD:PUBLISH
X-WR-CALNAME:Klangforum Wien
X-ORIGINAL-URL:https://alt2.klangforum.at
X-WR-CALDESC:Veranstaltungen für Klangforum Wien
BEGIN:VTIMEZONE
TZID:Europe/Berlin
BEGIN:DAYLIGHT
TZOFFSETFROM:+0100
TZOFFSETTO:+0200
TZNAME:CEST
DTSTART:20220327T010000
END:DAYLIGHT
BEGIN:STANDARD
TZOFFSETFROM:+0200
TZOFFSETTO:+0100
TZNAME:CET
DTSTART:20221030T010000
END:STANDARD
END:VTIMEZONE
BEGIN:VEVENT
DTSTART;TZID=Europe/Berlin:20221105T180000
DTEND;TZID=Europe/Berlin:20221105T220000
DTSTAMP:20260424T173244
CREATED:20220512T075711Z
LAST-MODIFIED:20221031T143452Z
UID:11377-1667671200-1667685600@alt2.klangforum.at
SUMMARY:AMOPERA
DESCRIPTION:AMOPERA \n   November 5\,\n18.00 - \n22.00 \n Festspielhaus Erl\, Erl\, Österreich \nAm 5. November 2022 wird die erste Meta-Oper des Klangforum Wien gemeinsam mit der belgischen Needcompany uraufgeführt. Im Festspielhaus von Erl in Tirol erwartet Sie ein Stück Operngeschichte der letzten 110 Jahre – geschöpft aus dem Fundus von über 90 Opern.\nMit AMOPERA werden einzigartige Erzählungen montiert\, die Abgründe von LIEBE und deren Ekstasen im Spiegel einer Geschichte des Neuen in der Musik erzählt. Seien Sie gespannt! \n> Mehr Infos zum Projekt \nZu den TicketsZum Veranstalter\nMit Werken von\nLuciano Berio | Sir Harrison Birtwistle | Alexander Zemlinsky | Alban Berg / E. Kloke | Benjamin Britten | Peter Maxwell Davies | Iannis Xenakis | Salvatore Sciarrino | Bernhard Lang | Beat Furrer | Rebecca Saunders | Michael Wertmüller | Sara Glojnarić \n\nSarah Maria Sun\, Sopran\nHolger Falk\, Bariton \nBas Wiegers \nKlangforum Wien & Needcompany  \nIn Kooperation mit \n          \n  \nMit freundlicher Unterstützung von \n \n                        \nDie flämischen Behörden können nicht\nfür den Inhalt dieser Veröffentlichung\nverantwortlich gemacht werden.
URL:https://alt2.klangforum.at/kalender/amopera-2/
LOCATION:Festspielhaus Erl\, Erl\, Österreich
CATEGORIES:Uraufführung
ATTACH;FMTTYPE=image/x-citrix-jpeg:https://alt2.klangforum.at/wp-content/uploads/2022/04/Klangforum-Amopera-Kalender1070x710-1.jpeg
END:VEVENT
END:VCALENDAR