BEGIN:VCALENDAR
VERSION:2.0
PRODID:-//Klangforum Wien - ECPv5.10.0//NONSGML v1.0//EN
CALSCALE:GREGORIAN
METHOD:PUBLISH
X-WR-CALNAME:Klangforum Wien
X-ORIGINAL-URL:https://alt2.klangforum.at
X-WR-CALDESC:Veranstaltungen für Klangforum Wien
BEGIN:VTIMEZONE
TZID:Europe/Berlin
BEGIN:DAYLIGHT
TZOFFSETFROM:+0100
TZOFFSETTO:+0200
TZNAME:CEST
DTSTART:20210328T010000
END:DAYLIGHT
BEGIN:STANDARD
TZOFFSETFROM:+0200
TZOFFSETTO:+0100
TZNAME:CET
DTSTART:20211031T010000
END:STANDARD
END:VTIMEZONE
BEGIN:VEVENT
DTSTART;TZID=Europe/Berlin:20210506T200000
DTEND;TZID=Europe/Berlin:20210506T223000
DTSTAMP:20260424T221432
CREATED:20210209T162443Z
LAST-MODIFIED:20210505T130852Z
UID:4777-1620331200-1620340200@alt2.klangforum.at
SUMMARY:ACHT BRÜCKEN. MUSIK FÜR KÖLN.
DESCRIPTION:20.00 Uhr – 21.30 Uhr \n  \nHappiness Seriousness — A CounterpointAnimationsfilme mit neuer Musik und Positionen zur gesunden Wirtschaft \n  \n\n\n\n»Ja\, aber die anderen zahlen doch auch keine Steuern. Ja\, aber nach Mallorca kann man doch nicht mit dem Fahrrad fahren. Ja\, aber …« Alltägliche Rechtfertigungen gegen das Gebotene\, nämlich die Zumutung\, sich solidarisch zu verhalten und nachhaltig zu wirtschaften. Unter dem Motto »Happiness – Seriousness A Counterpoint« haben Klangforum Wien und Künstlerinnen und Künstler verschiedener Sparten ein Programm in fünf Kapiteln und einem Epilog rund um den ewigen Kampf zwischen Gier und Mitgefühl\, Profitstreben und Gemeinsinn konzipiert.  \nEin hochaktuelles und zugleich uraltes Problem – Stimmkünstler David Moss beleuchtet es mittels einschlägiger Texte von der Antike bis zur Gegenwart. Einen Kontrapunkt bilden kurze poetische Meditationen\, die sich nicht einordnen lassen und an das Eigenleben der Dinge jenseits aller Zweckbindung erinnern. Dazu fünf vom Ensemble eigens in Auftrag gegebene Kurzfilme zum Thema\, eine Seiltänzerin und natürlich neue Musik – ein Abend über nichts Geringeres als die Natur des Menschen und die Zukunft der Welt.— ACHT BRÜCKEN. MUSIK FÜR KÖLN. \n\n\n  \n\n  \n\n\nProgramm: \n\n\nI. WÖLFEBjörn Wilker— Die Quelle des Unbekannten.Carola Bauckholt— Die Flunderfür Flöte\, Klarinette\, Saxophon\, Fagott\, Horn\, Posaune\, Schlagzeug und Akkordeon. Film: Elizabeth Hobbs \nII. GOOD OR BADKatharina Rosenberger— blurfür Flöte\, Saxophon\, Schlagwerk\, Klavier\, Violine und Violoncello \nEva Reiter— Lickalikefür Ensemble mit Film (mit Vokalsolo und Textprojektion). Film: Rebecca Blöcher \nIII. ANGST/ IV. UNRUHEImprovisationen für Ensemble und Vokalsoli \nV. TRÖSTENDE DINGERebecca Saunders— SoleTrio in Fis für mobiles Akkordeon\, Schlagzeug und KlavierYing Wang— Music Boxfür Ensemble\, Film und Electronics. Film: Johanna Kozuch \nVI. BEWUSSTSEINCharles Ives— The Unanswered Questionfür Trompete\, vier Flöten und StreicherIris ter Schiphorst— Suggestion of least resistancefür Film und Ensemble. Film: Michelle und Uri Kranot \nEPILOGMichael Pelzel— …Dance of the magic waterbells…für großes Ensemble \nkeine Pause | Ende gegen 21:30Gefördert durch die Kulturstiftung des Bundes \nDavid Moss\, StimmperformanceSarah Lindermeyer\, SeiltanzperformanceKlangforum WienDirigent\, Patrick Hahn \nMirella Weingarten\, RegieAndreas Schäfer\, DramaturgieMartin Repka\, Filmprojektion \n\n\n  \n\n  \n  \n  \n  \n	\n		\n		FacebookTwitterLinkedInWhatsAppVkE-Mail
URL:https://alt2.klangforum.at/kalender/acht-bruecken-musik-fuer-koeln/
LOCATION:Kölner Philharmonie\, Bischofsgartenstraße 1\, Köln\, 50667\, Deutschland
CATEGORIES:Festival
ATTACH;FMTTYPE=image/x-png:https://alt2.klangforum.at/wp-content/uploads/2021/02/Happiness-Seriousness_Still_Rebecca_Bloecher_Klangforum_Wien.png
END:VEVENT
END:VCALENDAR